BEGIN:VCALENDAR
VERSION:2.0
PRODID:-//Waterford Public Library - ECPv6.15.20//NONSGML v1.0//EN
CALSCALE:GREGORIAN
METHOD:PUBLISH
X-ORIGINAL-URL:https://waterfordlibrary.net
X-WR-CALDESC:Events for Waterford Public Library
REFRESH-INTERVAL;VALUE=DURATION:PT1H
X-Robots-Tag:noindex
X-PUBLISHED-TTL:PT1H
BEGIN:VTIMEZONE
TZID:America/New_York
BEGIN:DAYLIGHT
TZOFFSETFROM:-0500
TZOFFSETTO:-0400
TZNAME:EDT
DTSTART:20250309T070000
END:DAYLIGHT
BEGIN:STANDARD
TZOFFSETFROM:-0400
TZOFFSETTO:-0500
TZNAME:EST
DTSTART:20251102T060000
END:STANDARD
BEGIN:DAYLIGHT
TZOFFSETFROM:-0500
TZOFFSETTO:-0400
TZNAME:EDT
DTSTART:20260308T070000
END:DAYLIGHT
BEGIN:STANDARD
TZOFFSETFROM:-0400
TZOFFSETTO:-0500
TZNAME:EST
DTSTART:20261101T060000
END:STANDARD
BEGIN:DAYLIGHT
TZOFFSETFROM:-0500
TZOFFSETTO:-0400
TZNAME:EDT
DTSTART:20270314T070000
END:DAYLIGHT
BEGIN:STANDARD
TZOFFSETFROM:-0400
TZOFFSETTO:-0500
TZNAME:EST
DTSTART:20271107T060000
END:STANDARD
END:VTIMEZONE
BEGIN:VEVENT
DTSTART;TZID=America/New_York:20260206T103000
DTEND;TZID=America/New_York:20260206T113000
DTSTAMP:20260419T124450
CREATED:20250403T155828Z
LAST-MODIFIED:20260410T151631Z
UID:10000580-1770373800-1770377400@waterfordlibrary.net
SUMMARY:Weekly Storytime
DESCRIPTION:Join us for stories\, crafts\, and playtime every Friday at 10:30. Best for ages 3-5\, but all ages welcome! No registration required.
URL:https://waterfordlibrary.net/event/weekly-storytime-2/2026-02-06/
LOCATION:Waterford Public Library\, 117 3rd St\, Waterford\, NY\, 12188\, United States
CATEGORIES:Children's Programming,Storytime
ATTACH;FMTTYPE=image/jpeg:https://waterfordlibrary.net/wp-content/uploads/2025/03/Storytime-1-e1742653721190.jpg
END:VEVENT
BEGIN:VEVENT
DTSTART;TZID=America/New_York:20260206T140000
DTEND;TZID=America/New_York:20260206T160000
DTSTAMP:20260419T124450
CREATED:20260110T173646Z
LAST-MODIFIED:20260112T215640Z
UID:10001781-1770386400-1770393600@waterfordlibrary.net
SUMMARY:Watercolor Valentines
DESCRIPTION:Participants will create handmade watercolor valentine’s cards using paints and stencils. This class is beginner-friendly and will be taught by local artist Diane Steele. All materials provided. Registration is required as space is limited. Please RSVP using the form below or by calling the library. If the event is full\, you can call us at (518) 237-0891 to be added to the wait list. Please note that this event will take place after the library is closed\, so we recommend arriving a few minutes early if you wish to peruse our collection. For ages 16+.
URL:https://waterfordlibrary.net/event/watercolor-valentines/
LOCATION:Waterford Public Library\, 117 3rd St\, Waterford\, NY\, 12188\, United States
CATEGORIES:Adult Programming,Crafts
ATTACH;FMTTYPE=image/jpeg:https://waterfordlibrary.net/wp-content/uploads/2026/01/pexels-lum3n-44775-587958-scaled-e1768066573441.jpg
END:VEVENT
END:VCALENDAR