BEGIN:VCALENDAR
VERSION:2.0
PRODID:-//Waterford Public Library - ECPv6.15.20//NONSGML v1.0//EN
CALSCALE:GREGORIAN
METHOD:PUBLISH
X-WR-CALNAME:Waterford Public Library
X-ORIGINAL-URL:https://waterfordlibrary.net
X-WR-CALDESC:Events for Waterford Public Library
REFRESH-INTERVAL;VALUE=DURATION:PT1H
X-Robots-Tag:noindex
X-PUBLISHED-TTL:PT1H
BEGIN:VTIMEZONE
TZID:America/New_York
BEGIN:DAYLIGHT
TZOFFSETFROM:-0500
TZOFFSETTO:-0400
TZNAME:EDT
DTSTART:20250309T070000
END:DAYLIGHT
BEGIN:STANDARD
TZOFFSETFROM:-0400
TZOFFSETTO:-0500
TZNAME:EST
DTSTART:20251102T060000
END:STANDARD
BEGIN:DAYLIGHT
TZOFFSETFROM:-0500
TZOFFSETTO:-0400
TZNAME:EDT
DTSTART:20260308T070000
END:DAYLIGHT
BEGIN:STANDARD
TZOFFSETFROM:-0400
TZOFFSETTO:-0500
TZNAME:EST
DTSTART:20261101T060000
END:STANDARD
BEGIN:DAYLIGHT
TZOFFSETFROM:-0500
TZOFFSETTO:-0400
TZNAME:EDT
DTSTART:20270314T070000
END:DAYLIGHT
BEGIN:STANDARD
TZOFFSETFROM:-0400
TZOFFSETTO:-0500
TZNAME:EST
DTSTART:20271107T060000
END:STANDARD
END:VTIMEZONE
BEGIN:VEVENT
DTSTART;TZID=America/New_York:20260108T140000
DTEND;TZID=America/New_York:20260108T160000
DTSTAMP:20260422T051935
CREATED:20250317T185003Z
LAST-MODIFIED:20250514T191456Z
UID:10000049-1767880800-1767888000@waterfordlibrary.net
SUMMARY:Fiber Fanatics Meet-Up
DESCRIPTION:  \nJoin our weekly group at the library where we celebrate all crafty hobbies including knitting\, crochet\, embroidery\, and more! All levels of experience welcome. No registration is required.
URL:https://waterfordlibrary.net/event/fiber-fanatics-meet-up/2026-01-08/
LOCATION:Waterford Public Library\, 117 3rd St\, Waterford\, NY\, 12188\, United States
CATEGORIES:Adult Programming,Crafts
ATTACH;FMTTYPE=image/jpeg:https://waterfordlibrary.net/wp-content/uploads/2025/03/pexels-surene-palvie-1075224-2767689-scaled-e1742653756408.jpg
END:VEVENT
BEGIN:VEVENT
DTSTART;TZID=America/New_York:20260109T140000
DTEND;TZID=America/New_York:20260109T150000
DTSTAMP:20260422T051935
CREATED:20251216T160306Z
LAST-MODIFIED:20251217T210629Z
UID:10001773-1767967200-1767970800@waterfordlibrary.net
SUMMARY:An Afternoon of Classical Music
DESCRIPTION:This program will feature trios by female composers Louise Farrenc and Undine Smith Moore\, as well as duos for each instrument permutation from a variety of composers. Performed by Melanie Chirignon (flute)\, Melanie Hardage (piano)\, and Laura Melnicoff (cello)\, this concert celebrates collaboration\, contrast\, and the expressive possibilities of intimate chamber music. We hope you will join us for a lovely afternoon of music. No registration is necessary.\n\nThis program is generously sponsored by the Recording Industry’s Music Performance Trust Fund (MPTF).
URL:https://waterfordlibrary.net/event/an-afternoon-of-classical-music/
LOCATION:Waterford Public Library\, 117 3rd St\, Waterford\, NY\, 12188\, United States
CATEGORIES:Music
ATTACH;FMTTYPE=image/jpeg:https://waterfordlibrary.net/wp-content/uploads/2025/12/thumbnail_IMG_5698-scaled-e1765900951252.jpg
END:VEVENT
BEGIN:VEVENT
DTSTART;TZID=America/New_York:20260114T140000
DTEND;TZID=America/New_York:20260114T160000
DTSTAMP:20260422T051935
CREATED:20251201T195723Z
LAST-MODIFIED:20251211T214210Z
UID:10001733-1768399200-1768406400@waterfordlibrary.net
SUMMARY:2026 Vision Boards
DESCRIPTION:Start the new year with intention and creativity at our 2026 Vision Board Workshop! ✨We’ll be creating traditional vision boards using only magazines\, scissors\, glue\, and Sharpies—no devices\, no printing\, just old-school cut-and-paste creativity. Come put your goals\, dreams\, and inspirations for the year ahead into poster form to help motivate you all year. All supplies will be provided—just bring your dreams\, ideas\, and enthusiasm! \nPlease note: This program will take place off-site at the Waterford Wesleyan Church Fellowship Hall (75 Grace St\, Waterford\, NY). The parking lot is conveniently located across the street from the church and as you walk up between the two brick buildings\, the Fellowship Hall is the second door on the left. \nCome create\, reflect\, and envision a bright year ahead! \nRegistration is required (for ages 16+) and opens on December 14th\, 2025. If registration is full\, please call us and we will put you on the waitlist.
URL:https://waterfordlibrary.net/event/2026-vision-boards/
LOCATION:Waterford Wesleyan Church Fellowship Hall\, 75 Grace Street\, Waterford\, NY\, 12188\, United States
CATEGORIES:Adult Programming,Crafts
ATTACH;FMTTYPE=image/webp:https://waterfordlibrary.net/wp-content/uploads/2025/12/IMG_1963-scaled-e1764618835561.webp
ORGANIZER;CN="Waterford Public Library":MAILTO:watpublibrary@gmail.com
END:VEVENT
BEGIN:VEVENT
DTSTART;TZID=America/New_York:20260115T100000
DTEND;TZID=America/New_York:20260115T110000
DTSTAMP:20260422T051935
CREATED:20250318T145442Z
LAST-MODIFIED:20250514T164453Z
UID:10001132-1768471200-1768474800@waterfordlibrary.net
SUMMARY:Drop-In Tech-Help
DESCRIPTION:Join a staff member for hands-on help with your tech needs! Bring your laptop\, phone\, or tablet with you and any questions you might have and learn to unlock the full potential of your own devices. Tech-Time is a drop-in event every first and third Thursday from 10-11 am\, no registration required. If unsure of whether the library can help with your issue\, please call ahead: (518) 237-0891.
URL:https://waterfordlibrary.net/event/drop-in-tech-help/2026-01-15/
LOCATION:Waterford Public Library\, 117 3rd St\, Waterford\, NY\, 12188\, United States
CATEGORIES:Adult Programming,Tech-Help
ATTACH;FMTTYPE=image/jpeg:https://waterfordlibrary.net/wp-content/uploads/2025/03/pexels-tara-winstead-8386749-scaled-e1742653419323.jpg
END:VEVENT
BEGIN:VEVENT
DTSTART;TZID=America/New_York:20260115T140000
DTEND;TZID=America/New_York:20260115T160000
DTSTAMP:20260422T051935
CREATED:20250317T185003Z
LAST-MODIFIED:20250514T191456Z
UID:10000050-1768485600-1768492800@waterfordlibrary.net
SUMMARY:Fiber Fanatics Meet-Up
DESCRIPTION:  \nJoin our weekly group at the library where we celebrate all crafty hobbies including knitting\, crochet\, embroidery\, and more! All levels of experience welcome. No registration is required.
URL:https://waterfordlibrary.net/event/fiber-fanatics-meet-up/2026-01-15/
LOCATION:Waterford Public Library\, 117 3rd St\, Waterford\, NY\, 12188\, United States
CATEGORIES:Adult Programming,Crafts
ATTACH;FMTTYPE=image/jpeg:https://waterfordlibrary.net/wp-content/uploads/2025/03/pexels-surene-palvie-1075224-2767689-scaled-e1742653756408.jpg
END:VEVENT
BEGIN:VEVENT
DTSTART;TZID=America/New_York:20260122T140000
DTEND;TZID=America/New_York:20260122T160000
DTSTAMP:20260422T051935
CREATED:20250317T185003Z
LAST-MODIFIED:20250514T191456Z
UID:10000051-1769090400-1769097600@waterfordlibrary.net
SUMMARY:Fiber Fanatics Meet-Up
DESCRIPTION:  \nJoin our weekly group at the library where we celebrate all crafty hobbies including knitting\, crochet\, embroidery\, and more! All levels of experience welcome. No registration is required.
URL:https://waterfordlibrary.net/event/fiber-fanatics-meet-up/2026-01-22/
LOCATION:Waterford Public Library\, 117 3rd St\, Waterford\, NY\, 12188\, United States
CATEGORIES:Adult Programming,Crafts
ATTACH;FMTTYPE=image/jpeg:https://waterfordlibrary.net/wp-content/uploads/2025/03/pexels-surene-palvie-1075224-2767689-scaled-e1742653756408.jpg
END:VEVENT
BEGIN:VEVENT
DTSTART;TZID=America/New_York:20260124T110000
DTEND;TZID=America/New_York:20260124T130000
DTSTAMP:20260422T051935
CREATED:20251212T170250Z
LAST-MODIFIED:20260105T155827Z
UID:10001766-1769252400-1769259600@waterfordlibrary.net
SUMMARY:Crafternoon - Salt Shaker Snowman
DESCRIPTION:Time for a winter craft! We’ll be turning simple salt shakers into adorable snowmen ⛄ complete with cozy details and plenty of personality. This charming DIY project is perfect for adding a little seasonal cheer to your home. All supplies will be provided. Open to ages 18+. Registration is required.
URL:https://waterfordlibrary.net/event/crafternoon-salt-shaker-snowman/
LOCATION:Waterford Public Library\, 117 3rd St\, Waterford\, NY\, 12188\, United States
CATEGORIES:Adult Programming,Crafts
ATTACH;FMTTYPE=image/jpeg:https://waterfordlibrary.net/wp-content/uploads/2025/12/20251204_161932-scaled-e1765558078165.jpg
ORGANIZER;CN="Waterford Public Library":MAILTO:watpublibrary@gmail.com
END:VEVENT
BEGIN:VEVENT
DTSTART;TZID=America/New_York:20260127T180000
DTEND;TZID=America/New_York:20260127T190000
DTSTAMP:20260422T051935
CREATED:20251126T155712Z
LAST-MODIFIED:20251126T155712Z
UID:10001702-1769536800-1769540400@waterfordlibrary.net
SUMMARY:Waterford Readers Book Club
DESCRIPTION:Join the library for a monthly book club! We will primarily be reading mysteries and thrillers but other genres may be included from time to time. Our pick for January 27th is The Only One Left by Riley Sager. Copies are available at the check-out desk for pickup during the month of January. No registration is required. Please note that this book club takes place after the library is closed. We recommend arriving at least 15 minutes prior to the start of book club if you wish to check out items or peruse our collection. \nBestselling author Riley Sager returns with a Gothic chiller about a young caregiver assigned to work for a woman accused of a Lizzie Borden-like massacre decades earlier.
URL:https://waterfordlibrary.net/event/waterford-readers-book-club-11/
LOCATION:Waterford Public Library\, 117 3rd St\, Waterford\, NY\, 12188\, United States
CATEGORIES:Adult Programming,Book Club
ATTACH;FMTTYPE=image/jpeg:https://waterfordlibrary.net/wp-content/uploads/2025/11/62703226-e1764172603343.jpg
ORGANIZER;CN="Waterford Public Library":MAILTO:watpublibrary@gmail.com
END:VEVENT
BEGIN:VEVENT
DTSTART;TZID=America/New_York:20260129T140000
DTEND;TZID=America/New_York:20260129T160000
DTSTAMP:20260422T051935
CREATED:20250317T185003Z
LAST-MODIFIED:20250514T191456Z
UID:10000052-1769695200-1769702400@waterfordlibrary.net
SUMMARY:Fiber Fanatics Meet-Up
DESCRIPTION:  \nJoin our weekly group at the library where we celebrate all crafty hobbies including knitting\, crochet\, embroidery\, and more! All levels of experience welcome. No registration is required.
URL:https://waterfordlibrary.net/event/fiber-fanatics-meet-up/2026-01-29/
LOCATION:Waterford Public Library\, 117 3rd St\, Waterford\, NY\, 12188\, United States
CATEGORIES:Adult Programming,Crafts
ATTACH;FMTTYPE=image/jpeg:https://waterfordlibrary.net/wp-content/uploads/2025/03/pexels-surene-palvie-1075224-2767689-scaled-e1742653756408.jpg
END:VEVENT
BEGIN:VEVENT
DTSTART;TZID=America/New_York:20260129T180000
DTEND;TZID=America/New_York:20260129T190000
DTSTAMP:20260422T051935
CREATED:20251215T200456Z
LAST-MODIFIED:20251215T200456Z
UID:10001767-1769709600-1769713200@waterfordlibrary.net
SUMMARY:Adult Craft Night: Faerie Window Ornaments
DESCRIPTION:Join the library and local artist Emma Rinaldi for a delightfully whimsical painting/crafting class. This class will guide participants through the steps of creating a window to another world. These fairy windows (which can be turned into ornaments/window decorations) are made with acrylic paint\, cardstock\, twigs\, and twine. This is a beginner-friendly class. All materials (and instruction) will be provided. Registration is required. \nAges 16+. Registration opens on December 29th\, 2025. If the event is full\, call the library at (518) 237-0891 to be put on the wait list.
URL:https://waterfordlibrary.net/event/adult-craft-night-faerie-window-ornaments/
LOCATION:Waterford Public Library\, 117 3rd St\, Waterford\, NY\, 12188\, United States
CATEGORIES:Adult Programming,Crafts
ATTACH;FMTTYPE=image/jpeg:https://waterfordlibrary.net/wp-content/uploads/2025/08/unnamed-e1755722129589.jpg
END:VEVENT
BEGIN:VEVENT
DTSTART;TZID=America/New_York:20260131T140000
DTEND;TZID=America/New_York:20260131T180000
DTSTAMP:20260422T051935
CREATED:20251218T170338Z
LAST-MODIFIED:20251218T170543Z
UID:10001775-1769868000-1769882400@waterfordlibrary.net
SUMMARY:Blood on the Clocktower
DESCRIPTION:Join the library for a fun social deduction game for adults!\n\nBlood on the Clocktower is a game of murder and mystery\, lies and logic\, deduction and deception for five-to-twenty courageous players and one devious storyteller.\nA social game played in person\, seated in a circle\, each player receives either a ‘good’ or ‘evil’ token with their unique character on it. Good players share information to solve the mystery whilst evil players lie about who they are and what they know. The good team wins if they can piece together their knowledge\, trust each other\, and execute the demon. The evil team wins if the demon can sow distrust\, evade detection\, and wipe out the village.”\n\nFirst come\, first served\, as space allows. Ages 16+\n\nFind out more: https://bloodontheclocktower.com/
URL:https://waterfordlibrary.net/event/blood-on-the-clocktower-4/2026-01-31/
LOCATION:Waterford Public Library\, 117 3rd St\, Waterford\, NY\, 12188\, United States
CATEGORIES:Adult Programming
ATTACH;FMTTYPE=image/jpeg:https://waterfordlibrary.net/wp-content/uploads/2025/03/blood-1.jpg
ORGANIZER;CN="Waterford Public Library":MAILTO:watpublibrary@gmail.com
END:VEVENT
END:VCALENDAR