BEGIN:VCALENDAR
VERSION:2.0
PRODID:-//Waterford Public Library - ECPv6.15.20//NONSGML v1.0//EN
CALSCALE:GREGORIAN
METHOD:PUBLISH
X-ORIGINAL-URL:https://waterfordlibrary.net
X-WR-CALDESC:Events for Waterford Public Library
REFRESH-INTERVAL;VALUE=DURATION:PT1H
X-Robots-Tag:noindex
X-PUBLISHED-TTL:PT1H
BEGIN:VTIMEZONE
TZID:America/New_York
BEGIN:DAYLIGHT
TZOFFSETFROM:-0500
TZOFFSETTO:-0400
TZNAME:EDT
DTSTART:20250309T070000
END:DAYLIGHT
BEGIN:STANDARD
TZOFFSETFROM:-0400
TZOFFSETTO:-0500
TZNAME:EST
DTSTART:20251102T060000
END:STANDARD
BEGIN:DAYLIGHT
TZOFFSETFROM:-0500
TZOFFSETTO:-0400
TZNAME:EDT
DTSTART:20260308T070000
END:DAYLIGHT
BEGIN:STANDARD
TZOFFSETFROM:-0400
TZOFFSETTO:-0500
TZNAME:EST
DTSTART:20261101T060000
END:STANDARD
BEGIN:DAYLIGHT
TZOFFSETFROM:-0500
TZOFFSETTO:-0400
TZNAME:EDT
DTSTART:20270314T070000
END:DAYLIGHT
BEGIN:STANDARD
TZOFFSETFROM:-0400
TZOFFSETTO:-0500
TZNAME:EST
DTSTART:20271107T060000
END:STANDARD
END:VTIMEZONE
BEGIN:VEVENT
DTSTART;TZID=America/New_York:20260202T180000
DTEND;TZID=America/New_York:20260202T190000
DTSTAMP:20260423T140247
CREATED:20251215T212736Z
LAST-MODIFIED:20260125T181847Z
UID:10001770-1770055200-1770058800@waterfordlibrary.net
SUMMARY:Golden Leaves Book Club
DESCRIPTION:(note\, this session was previously scheduled for January 26 and moved due to snow). Join our newest book club\, the Golden Leaves Book Club\, run by Shaunty McMillin\, owner of Golden Leaf Books here in Waterford. This is a book club focused on fantasy and romantasy reads. Light refreshments will be provided. No registration necessary. We will be discussing Assistant to the Villain by Hannah Nicole Maehrer on January 26 from 6-7. Copies are available for pickup at the Waterford Public Library.  \nASSISTANT WANTED: Notorious\, high-ranking villain seeks loyal\, levelheaded assistant for unspecified office duties\, supporting staff for random mayhem and terror\, and other Dark Things In General. Discretion a must. Excellent benefits. \nWith ailing family to support\, Evie Sage’s employment status isn’t just important\, it’s vital. So when a mishap with Rennedawn’s most infamous Villain results in a job offer―naturally\, she says yes. No job is perfect\, of course\, but even less so when you develop a teeny crush on your terrifying\, temperamental\, and undeniably hot boss. Don’t find evil so attractive\, Evie. \n 
URL:https://waterfordlibrary.net/event/golden-leaves-book-club/
LOCATION:Waterford Public Library\, 117 3rd St\, Waterford\, NY\, 12188\, United States
CATEGORIES:Book Club
ATTACH;FMTTYPE=image/jpeg:https://waterfordlibrary.net/wp-content/uploads/2025/12/123257687-e1765834013148.jpg
END:VEVENT
BEGIN:VEVENT
DTSTART;TZID=America/New_York:20260205T100000
DTEND;TZID=America/New_York:20260205T110000
DTSTAMP:20260423T140247
CREATED:20250318T145635Z
LAST-MODIFIED:20250514T191632Z
UID:10001192-1770285600-1770289200@waterfordlibrary.net
SUMMARY:Drop-In Tech-Help
DESCRIPTION:Join a staff member for hands-on help with your tech needs! Bring your laptop\, phone\, or tablet with you and any questions you might have and learn to unlock the full potential of your own devices. Tech-Time is a drop-in event every first and third Thursday from 10-11 am\, no registration required. If unsure of whether the library can help with your issue\, please call ahead: (518) 237-0891.
URL:https://waterfordlibrary.net/event/drop-in-tech-help-2/2026-02-05/
LOCATION:Waterford Public Library\, 117 3rd St\, Waterford\, NY\, 12188\, United States
CATEGORIES:Adult Programming,Tech-Help
ATTACH;FMTTYPE=image/jpeg:https://waterfordlibrary.net/wp-content/uploads/2025/03/pexels-tara-winstead-8386749-scaled-e1742653419323.jpg
END:VEVENT
BEGIN:VEVENT
DTSTART;TZID=America/New_York:20260205T140000
DTEND;TZID=America/New_York:20260205T160000
DTSTAMP:20260423T140247
CREATED:20250317T185003Z
LAST-MODIFIED:20250514T191456Z
UID:10000053-1770300000-1770307200@waterfordlibrary.net
SUMMARY:Fiber Fanatics Meet-Up
DESCRIPTION:  \nJoin our weekly group at the library where we celebrate all crafty hobbies including knitting\, crochet\, embroidery\, and more! All levels of experience welcome. No registration is required.
URL:https://waterfordlibrary.net/event/fiber-fanatics-meet-up/2026-02-05/
LOCATION:Waterford Public Library\, 117 3rd St\, Waterford\, NY\, 12188\, United States
CATEGORIES:Adult Programming,Crafts
ATTACH;FMTTYPE=image/jpeg:https://waterfordlibrary.net/wp-content/uploads/2025/03/pexels-surene-palvie-1075224-2767689-scaled-e1742653756408.jpg
END:VEVENT
BEGIN:VEVENT
DTSTART;TZID=America/New_York:20260206T140000
DTEND;TZID=America/New_York:20260206T160000
DTSTAMP:20260423T140247
CREATED:20260110T173646Z
LAST-MODIFIED:20260112T215640Z
UID:10001781-1770386400-1770393600@waterfordlibrary.net
SUMMARY:Watercolor Valentines
DESCRIPTION:Participants will create handmade watercolor valentine’s cards using paints and stencils. This class is beginner-friendly and will be taught by local artist Diane Steele. All materials provided. Registration is required as space is limited. Please RSVP using the form below or by calling the library. If the event is full\, you can call us at (518) 237-0891 to be added to the wait list. Please note that this event will take place after the library is closed\, so we recommend arriving a few minutes early if you wish to peruse our collection. For ages 16+.
URL:https://waterfordlibrary.net/event/watercolor-valentines/
LOCATION:Waterford Public Library\, 117 3rd St\, Waterford\, NY\, 12188\, United States
CATEGORIES:Adult Programming,Crafts
ATTACH;FMTTYPE=image/jpeg:https://waterfordlibrary.net/wp-content/uploads/2026/01/pexels-lum3n-44775-587958-scaled-e1768066573441.jpg
END:VEVENT
BEGIN:VEVENT
DTSTART;TZID=America/New_York:20260211T140000
DTEND;TZID=America/New_York:20260211T160000
DTSTAMP:20260423T140247
CREATED:20251230T170132Z
LAST-MODIFIED:20260105T160041Z
UID:10001779-1770818400-1770825600@waterfordlibrary.net
SUMMARY:Miniature Book Bouquets
DESCRIPTION:Create a one-of-a-kind tiny bouquet using cut-out book pages\, buttons\, and wire\, then arrange your miniature blooms in a charming salt shaker vase. Open to ages 16+. Registration is required and can be done by RSVP’ing below or by calling the library at 518.237.0891. If the program is full\, please call us to be put on the waitlist. \nPlease note: This program will take place off-site at the Waterford Wesleyan Church Fellowship Hall (75 Grace St\, Waterford\, NY). The parking lot is conveniently located across the street from the church and as you walk up between the two brick buildings\, the Fellowship Hall is the second door on the left.
URL:https://waterfordlibrary.net/event/miniature-book-bouquets/
LOCATION:Waterford Wesleyan Church Fellowship Hall\, 75 Grace Street\, Waterford\, NY\, 12188\, United States
CATEGORIES:Adult Programming,Crafts
ATTACH;FMTTYPE=image/png:https://waterfordlibrary.net/wp-content/uploads/2025/12/These-bookmarks-have-been-found-abandoned-in-books.-Please-take-one-and-let-them-fulfill-their-purpose-of-holding-your-place-for-you-e1767113089548.png
ORGANIZER;CN="Waterford Public Library":MAILTO:watpublibrary@gmail.com
END:VEVENT
BEGIN:VEVENT
DTSTART;TZID=America/New_York:20260212T140000
DTEND;TZID=America/New_York:20260212T160000
DTSTAMP:20260423T140247
CREATED:20250317T185003Z
LAST-MODIFIED:20250514T191456Z
UID:10000054-1770904800-1770912000@waterfordlibrary.net
SUMMARY:Fiber Fanatics Meet-Up
DESCRIPTION:  \nJoin our weekly group at the library where we celebrate all crafty hobbies including knitting\, crochet\, embroidery\, and more! All levels of experience welcome. No registration is required.
URL:https://waterfordlibrary.net/event/fiber-fanatics-meet-up/2026-02-12/
LOCATION:Waterford Public Library\, 117 3rd St\, Waterford\, NY\, 12188\, United States
CATEGORIES:Adult Programming,Crafts
ATTACH;FMTTYPE=image/jpeg:https://waterfordlibrary.net/wp-content/uploads/2025/03/pexels-surene-palvie-1075224-2767689-scaled-e1742653756408.jpg
END:VEVENT
BEGIN:VEVENT
DTSTART;TZID=America/New_York:20260214T120000
DTEND;TZID=America/New_York:20260214T140000
DTSTAMP:20260423T140247
CREATED:20260108T195558Z
LAST-MODIFIED:20260110T172735Z
UID:10001780-1771070400-1771077600@waterfordlibrary.net
SUMMARY:Author Talk with Kathryn R. Biel
DESCRIPTION:Celebrate Valentine’s Day with USA Today Bestselling Author Kathryn R. Biel as she discusses her novels!  \nKathryn R. Biel writes low-to-no spice contemporary romance\, rom-com\, sports romance\, and women’s fiction full of humor\, heart\, and happily-ever-afters. Her books balance the drama and challenges of real life with witty banter\, strong heroines\, and swoony cinnamon-roll heroes. Whether she’s writing laugh-out-loud romantic comedies\, emotional women’s fiction\, or heartfelt sports romances\, Kathryn delivers stories where resilience\, love\, and laughter take center stage. \nKathryn is the author of more than 20 books\, including the award-winning Live for This\, Made for Me\, and The UnBRCAble Women Series (Ready for Whatever\, Seize the Day\, and Underneath It All)  \nRegistration is not required.
URL:https://waterfordlibrary.net/event/author-talk-with-kathryn-r-biel/
LOCATION:Waterford Public Library\, 117 3rd St\, Waterford\, NY\, 12188\, United States
CATEGORIES:Adult Programming,Author Talks
ATTACH;FMTTYPE=image/jpeg:https://waterfordlibrary.net/wp-content/uploads/2026/01/img5.jpg
ORGANIZER;CN="Waterford Public Library":MAILTO:watpublibrary@gmail.com
END:VEVENT
BEGIN:VEVENT
DTSTART;TZID=America/New_York:20260219T100000
DTEND;TZID=America/New_York:20260219T110000
DTSTAMP:20260423T140247
CREATED:20250318T145442Z
LAST-MODIFIED:20250514T164453Z
UID:10001133-1771495200-1771498800@waterfordlibrary.net
SUMMARY:Drop-In Tech-Help
DESCRIPTION:Join a staff member for hands-on help with your tech needs! Bring your laptop\, phone\, or tablet with you and any questions you might have and learn to unlock the full potential of your own devices. Tech-Time is a drop-in event every first and third Thursday from 10-11 am\, no registration required. If unsure of whether the library can help with your issue\, please call ahead: (518) 237-0891.
URL:https://waterfordlibrary.net/event/drop-in-tech-help/2026-02-19/
LOCATION:Waterford Public Library\, 117 3rd St\, Waterford\, NY\, 12188\, United States
CATEGORIES:Adult Programming,Tech-Help
ATTACH;FMTTYPE=image/jpeg:https://waterfordlibrary.net/wp-content/uploads/2025/03/pexels-tara-winstead-8386749-scaled-e1742653419323.jpg
END:VEVENT
BEGIN:VEVENT
DTSTART;TZID=America/New_York:20260219T140000
DTEND;TZID=America/New_York:20260219T160000
DTSTAMP:20260423T140247
CREATED:20250317T185003Z
LAST-MODIFIED:20250514T191456Z
UID:10000055-1771509600-1771516800@waterfordlibrary.net
SUMMARY:Fiber Fanatics Meet-Up
DESCRIPTION:  \nJoin our weekly group at the library where we celebrate all crafty hobbies including knitting\, crochet\, embroidery\, and more! All levels of experience welcome. No registration is required.
URL:https://waterfordlibrary.net/event/fiber-fanatics-meet-up/2026-02-19/
LOCATION:Waterford Public Library\, 117 3rd St\, Waterford\, NY\, 12188\, United States
CATEGORIES:Adult Programming,Crafts
ATTACH;FMTTYPE=image/jpeg:https://waterfordlibrary.net/wp-content/uploads/2025/03/pexels-surene-palvie-1075224-2767689-scaled-e1742653756408.jpg
END:VEVENT
BEGIN:VEVENT
DTSTART;TZID=America/New_York:20260223T180000
DTEND;TZID=America/New_York:20260223T190000
DTSTAMP:20260423T140247
CREATED:20251216T153726Z
LAST-MODIFIED:20251216T153726Z
UID:10001771-1771869600-1771873200@waterfordlibrary.net
SUMMARY:Golden Leaves Book Club
DESCRIPTION:Join our newest book club\, the Golden Leaves Book Club\, run by Shaunty McMillin\, owner of Golden Leaf Books here in Waterford. This is a book club focused on fantasy and romantasy reads. Light refreshments will be provided. No registration necessary. We will be discussing Red Rising by Pierce Brown on February 23 from 6-7. Copies are available for pickup at the Waterford Public Library during the month of February.  \nDarrow is a Red\, a member of the lowest caste in the color-coded society of the future. Like his fellow Reds\, he works all day\, believing that he and his people are making the surface of Mars livable for future generations. Yet he toils willingly\, trusting that his blood and sweat will one day result in a better world for his children. But Darrow and his kind have been betrayed. Soon he discovers that humanity reached the surface generations ago. Vast cities and lush wilds spread across the planet. Darrow—and Reds like him—are nothing more than slaves to a decadent ruling class. \n 
URL:https://waterfordlibrary.net/event/golden-leaves-book-club-2/
LOCATION:Waterford Public Library\, 117 3rd St\, Waterford\, NY\, 12188\, United States
CATEGORIES:Book Club
ATTACH;FMTTYPE=image/jpeg:https://waterfordlibrary.net/wp-content/uploads/2025/12/15839976-e1765899432466.jpg
END:VEVENT
BEGIN:VEVENT
DTSTART;TZID=America/New_York:20260224T180000
DTEND;TZID=America/New_York:20260224T190000
DTSTAMP:20260423T140247
CREATED:20251126T160319Z
LAST-MODIFIED:20251126T160319Z
UID:10001703-1771956000-1771959600@waterfordlibrary.net
SUMMARY:Waterford Readers Book Club
DESCRIPTION:Join the library for a monthly book club! We will primarily be reading mysteries and thrillers but other genres may be included from time to time. Our pick for February 24th is The Last One at the Wedding by Jason Rekulak. Copies are available at the check-out desk for pickup during the month of February. No registration is required. Please note that this book club takes place after the library is closed. We recommend arriving at least 15 minutes prior to the start of book club if you wish to check out items or peruse our collection. \nFrank Szatowski is shocked when his daughter\, Maggie\, calls him for the first time in three years. He was convinced that their estrangement would become permanent. He’s even more surprised when she invites him to her upcoming wedding in New Hampshire. It seems that Maggie failed to mention that she’s marrying Aidan Gardner\, the son of a famous tech billionaire. Feeling desperately out of place\, Frank focuses on reconnecting with Maggie and getting to know her new family. But it’s difficult: Aidan is withdrawn and evasive; Maggie doesn’t seem to have time for him; and he finds that the locals are disturbingly hostile to the Gardners.
URL:https://waterfordlibrary.net/event/waterford-readers-book-club-12/
LOCATION:Waterford Public Library\, 117 3rd St\, Waterford\, NY\, 12188\, United States
CATEGORIES:Adult Programming,Book Club
ATTACH;FMTTYPE=image/jpeg:https://waterfordlibrary.net/wp-content/uploads/2025/11/203579177-e1764172935541.jpg
ORGANIZER;CN="Waterford Public Library":MAILTO:watpublibrary@gmail.com
END:VEVENT
BEGIN:VEVENT
DTSTART;TZID=America/New_York:20260226T140000
DTEND;TZID=America/New_York:20260226T160000
DTSTAMP:20260423T140247
CREATED:20250317T185003Z
LAST-MODIFIED:20250514T191456Z
UID:10000056-1772114400-1772121600@waterfordlibrary.net
SUMMARY:Fiber Fanatics Meet-Up
DESCRIPTION:  \nJoin our weekly group at the library where we celebrate all crafty hobbies including knitting\, crochet\, embroidery\, and more! All levels of experience welcome. No registration is required.
URL:https://waterfordlibrary.net/event/fiber-fanatics-meet-up/2026-02-26/
LOCATION:Waterford Public Library\, 117 3rd St\, Waterford\, NY\, 12188\, United States
CATEGORIES:Adult Programming,Crafts
ATTACH;FMTTYPE=image/jpeg:https://waterfordlibrary.net/wp-content/uploads/2025/03/pexels-surene-palvie-1075224-2767689-scaled-e1742653756408.jpg
END:VEVENT
END:VCALENDAR