BEGIN:VCALENDAR
VERSION:2.0
PRODID:-//Waterford Public Library - ECPv6.15.20//NONSGML v1.0//EN
CALSCALE:GREGORIAN
METHOD:PUBLISH
X-WR-CALNAME:Waterford Public Library
X-ORIGINAL-URL:https://waterfordlibrary.net
X-WR-CALDESC:Events for Waterford Public Library
REFRESH-INTERVAL;VALUE=DURATION:PT1H
X-Robots-Tag:noindex
X-PUBLISHED-TTL:PT1H
BEGIN:VTIMEZONE
TZID:America/New_York
BEGIN:DAYLIGHT
TZOFFSETFROM:-0500
TZOFFSETTO:-0400
TZNAME:EDT
DTSTART:20240310T070000
END:DAYLIGHT
BEGIN:STANDARD
TZOFFSETFROM:-0400
TZOFFSETTO:-0500
TZNAME:EST
DTSTART:20241103T060000
END:STANDARD
BEGIN:DAYLIGHT
TZOFFSETFROM:-0500
TZOFFSETTO:-0400
TZNAME:EDT
DTSTART:20250309T070000
END:DAYLIGHT
BEGIN:STANDARD
TZOFFSETFROM:-0400
TZOFFSETTO:-0500
TZNAME:EST
DTSTART:20251102T060000
END:STANDARD
BEGIN:DAYLIGHT
TZOFFSETFROM:-0500
TZOFFSETTO:-0400
TZNAME:EDT
DTSTART:20260308T070000
END:DAYLIGHT
BEGIN:STANDARD
TZOFFSETFROM:-0400
TZOFFSETTO:-0500
TZNAME:EST
DTSTART:20261101T060000
END:STANDARD
END:VTIMEZONE
BEGIN:VEVENT
DTSTART;TZID=America/New_York:20251020T180000
DTEND;TZID=America/New_York:20251020T190000
DTSTAMP:20260424T184604
CREATED:20250903T155148Z
LAST-MODIFIED:20250903T155148Z
UID:10001684-1760983200-1760986800@waterfordlibrary.net
SUMMARY:Golden Leaf Book Club
DESCRIPTION:Join our newest book club\, the Golden Leaf Book Club\, run by Shaunty McMillin\, owner of Golden Leaf Books here in Waterford. This is a book club focused on fantasy\, romance\, and romantasy reads. Light refreshments will be provided. No registration necessary. We will be discussing Divine Rivals by Rebecca Ross on October 20 from 6-7. Copies are available for pickup at the Waterford Public Library.  \n“All eighteen-year-old Iris Winnow wants to do is hold her family together. With a brother on the frontline forced to fight on behalf of the Gods now missing from the frontline and a mother drowning her sorrows\, Iris’s best bet is winning the columnist promotion at the Oath Gazette. \nBut when Iris’s letters to her brother fall into the wrong hands – that of the handsome but cold Roman Kitt\, her rival at the paper – an unlikely magical connection forms. \nExpelled into the middle of a mystical war\, magical typewriters in tow\, can their bond withstand the fight for the fate of mankind and\, most importantly\, love?”
URL:https://waterfordlibrary.net/event/golden-leaf-book-club-4/
LOCATION:Waterford Public Library\, 117 3rd St\, Waterford\, NY\, 12188\, United States
CATEGORIES:Book Club
ATTACH;FMTTYPE=image/jpeg:https://waterfordlibrary.net/wp-content/uploads/2025/09/60784546-e1756914703347.jpg
END:VEVENT
BEGIN:VEVENT
DTSTART;TZID=America/New_York:20251028T180000
DTEND;TZID=America/New_York:20251028T190000
DTSTAMP:20260424T184604
CREATED:20250806T190046Z
LAST-MODIFIED:20250806T190046Z
UID:10001674-1761674400-1761678000@waterfordlibrary.net
SUMMARY:Waterford Readers Book Club
DESCRIPTION:Join the library for a monthly book club! We will primarily be reading mysteries and thrillers but other genres may be included from time to time. Our pick for October 28 is Mexican Gothic by Silvia Moreno-Garcia. Copies are available at the check-out desk for pickup during the month of October. No registration is required. Please note that this book club takes place after the library is closed. We recommend arriving at least 15 minutes prior to the start of book club if you wish to check out items or peruse our collection. \nAfter receiving a frantic letter from her newly-wed cousin begging for someone to save her from a mysterious doom\, Noemí Taboada heads to High Place\, a distant house in the Mexican countryside. She’s not sure what she will find—her cousin’s husband\, a handsome Englishman\, is a stranger\, and Noemí knows little about the region. \nNoemí is also an unlikely rescuer: She’s a glamorous debutante\, and her chic gowns and perfect red lipstick are more suited for cocktail parties than amateur sleuthing. But she’s also tough and smart\, with an indomitable will\, and she is not afraid: Not of her cousin’s new husband\, who is both menacing and alluring; not of his father\, the ancient patriarch who seems to be fascinated by Noemí; and not even of the house itself\, which begins to invade Noemi’s dreams with visions of blood and doom.
URL:https://waterfordlibrary.net/event/waterford-readers-book-club-8/
LOCATION:Waterford Public Library\, 117 3rd St\, Waterford\, NY\, 12188\, United States
CATEGORIES:Adult Programming,Book Club
ATTACH;FMTTYPE=image/jpeg:https://waterfordlibrary.net/wp-content/uploads/2025/08/53152636-1-scaled-e1754506822106.jpg
ORGANIZER;CN="Waterford Public Library":MAILTO:watpublibrary@gmail.com
END:VEVENT
END:VCALENDAR