BEGIN:VCALENDAR
VERSION:2.0
PRODID:-//Waterford Public Library - ECPv6.15.20//NONSGML v1.0//EN
CALSCALE:GREGORIAN
METHOD:PUBLISH
X-WR-CALNAME:Waterford Public Library
X-ORIGINAL-URL:https://waterfordlibrary.net
X-WR-CALDESC:Events for Waterford Public Library
REFRESH-INTERVAL;VALUE=DURATION:PT1H
X-Robots-Tag:noindex
X-PUBLISHED-TTL:PT1H
BEGIN:VTIMEZONE
TZID:America/New_York
BEGIN:DAYLIGHT
TZOFFSETFROM:-0500
TZOFFSETTO:-0400
TZNAME:EDT
DTSTART:20250309T070000
END:DAYLIGHT
BEGIN:STANDARD
TZOFFSETFROM:-0400
TZOFFSETTO:-0500
TZNAME:EST
DTSTART:20251102T060000
END:STANDARD
BEGIN:DAYLIGHT
TZOFFSETFROM:-0500
TZOFFSETTO:-0400
TZNAME:EDT
DTSTART:20260308T070000
END:DAYLIGHT
BEGIN:STANDARD
TZOFFSETFROM:-0400
TZOFFSETTO:-0500
TZNAME:EST
DTSTART:20261101T060000
END:STANDARD
BEGIN:DAYLIGHT
TZOFFSETFROM:-0500
TZOFFSETTO:-0400
TZNAME:EDT
DTSTART:20270314T070000
END:DAYLIGHT
BEGIN:STANDARD
TZOFFSETFROM:-0400
TZOFFSETTO:-0500
TZNAME:EST
DTSTART:20271107T060000
END:STANDARD
END:VTIMEZONE
BEGIN:VEVENT
DTSTART;TZID=America/New_York:20260604T140000
DTEND;TZID=America/New_York:20260604T160000
DTSTAMP:20260421T214332
CREATED:20250317T185003Z
LAST-MODIFIED:20250514T191456Z
UID:10000070-1780581600-1780588800@waterfordlibrary.net
SUMMARY:Fiber Fanatics Meet-Up
DESCRIPTION:  \nJoin our weekly group at the library where we celebrate all crafty hobbies including knitting\, crochet\, embroidery\, and more! All levels of experience welcome. No registration is required.
URL:https://waterfordlibrary.net/event/fiber-fanatics-meet-up/2026-06-04/
LOCATION:Waterford Public Library\, 117 3rd St\, Waterford\, NY\, 12188\, United States
CATEGORIES:Adult Programming,Crafts
ATTACH;FMTTYPE=image/jpeg:https://waterfordlibrary.net/wp-content/uploads/2025/03/pexels-surene-palvie-1075224-2767689-scaled-e1742653756408.jpg
END:VEVENT
BEGIN:VEVENT
DTSTART;TZID=America/New_York:20260611T140000
DTEND;TZID=America/New_York:20260611T160000
DTSTAMP:20260421T214332
CREATED:20250317T185003Z
LAST-MODIFIED:20250514T191456Z
UID:10000071-1781186400-1781193600@waterfordlibrary.net
SUMMARY:Fiber Fanatics Meet-Up
DESCRIPTION:  \nJoin our weekly group at the library where we celebrate all crafty hobbies including knitting\, crochet\, embroidery\, and more! All levels of experience welcome. No registration is required.
URL:https://waterfordlibrary.net/event/fiber-fanatics-meet-up/2026-06-11/
LOCATION:Waterford Public Library\, 117 3rd St\, Waterford\, NY\, 12188\, United States
CATEGORIES:Adult Programming,Crafts
ATTACH;FMTTYPE=image/jpeg:https://waterfordlibrary.net/wp-content/uploads/2025/03/pexels-surene-palvie-1075224-2767689-scaled-e1742653756408.jpg
END:VEVENT
BEGIN:VEVENT
DTSTART;TZID=America/New_York:20260612T143000
DTEND;TZID=America/New_York:20260612T163000
DTSTAMP:20260421T214332
CREATED:20260420T165334Z
LAST-MODIFIED:20260420T203814Z
UID:10001898-1781274600-1781281800@waterfordlibrary.net
SUMMARY:Summer Flowers in Watercolor
DESCRIPTION:Join local artist Diane Steele for an afternoon of watercolor instruction using impressionist techniques\, and create a gorgeous floral piece. All materials will be provided. Beginners welcome. Registration is required – RSVP below. If the event is full call the library at (518) 237-0891 to be put on the waitlist. This program is open to ages 16+.  \nSaratoga Arts made this program possible through the Community Arts Regrant Program\, funded by the New York State Council on the Arts with the support of the office of the Governor and the New York State Legislature.
URL:https://waterfordlibrary.net/event/summer-flowers-in-watercolor/
LOCATION:Waterford Public Library\, 117 3rd St\, Waterford\, NY\, 12188\, United States
CATEGORIES:Adult Programming,Crafts
ATTACH;FMTTYPE=image/jpeg:https://waterfordlibrary.net/wp-content/uploads/2026/04/summerbouquet-1-e1776703951885.jpg
END:VEVENT
BEGIN:VEVENT
DTSTART;TZID=America/New_York:20260618T140000
DTEND;TZID=America/New_York:20260618T160000
DTSTAMP:20260421T214332
CREATED:20250317T185003Z
LAST-MODIFIED:20250514T191456Z
UID:10000072-1781791200-1781798400@waterfordlibrary.net
SUMMARY:Fiber Fanatics Meet-Up
DESCRIPTION:  \nJoin our weekly group at the library where we celebrate all crafty hobbies including knitting\, crochet\, embroidery\, and more! All levels of experience welcome. No registration is required.
URL:https://waterfordlibrary.net/event/fiber-fanatics-meet-up/2026-06-18/
LOCATION:Waterford Public Library\, 117 3rd St\, Waterford\, NY\, 12188\, United States
CATEGORIES:Adult Programming,Crafts
ATTACH;FMTTYPE=image/jpeg:https://waterfordlibrary.net/wp-content/uploads/2025/03/pexels-surene-palvie-1075224-2767689-scaled-e1742653756408.jpg
END:VEVENT
BEGIN:VEVENT
DTSTART;TZID=America/New_York:20260625T140000
DTEND;TZID=America/New_York:20260625T160000
DTSTAMP:20260421T214332
CREATED:20250317T185003Z
LAST-MODIFIED:20250514T191456Z
UID:10000073-1782396000-1782403200@waterfordlibrary.net
SUMMARY:Fiber Fanatics Meet-Up
DESCRIPTION:  \nJoin our weekly group at the library where we celebrate all crafty hobbies including knitting\, crochet\, embroidery\, and more! All levels of experience welcome. No registration is required.
URL:https://waterfordlibrary.net/event/fiber-fanatics-meet-up/2026-06-25/
LOCATION:Waterford Public Library\, 117 3rd St\, Waterford\, NY\, 12188\, United States
CATEGORIES:Adult Programming,Crafts
ATTACH;FMTTYPE=image/jpeg:https://waterfordlibrary.net/wp-content/uploads/2025/03/pexels-surene-palvie-1075224-2767689-scaled-e1742653756408.jpg
END:VEVENT
END:VCALENDAR