BEGIN:VCALENDAR
VERSION:2.0
PRODID:-//Waterford Public Library - ECPv6.15.20//NONSGML v1.0//EN
CALSCALE:GREGORIAN
METHOD:PUBLISH
X-ORIGINAL-URL:https://waterfordlibrary.net
X-WR-CALDESC:Events for Waterford Public Library
REFRESH-INTERVAL;VALUE=DURATION:PT1H
X-Robots-Tag:noindex
X-PUBLISHED-TTL:PT1H
BEGIN:VTIMEZONE
TZID:America/New_York
BEGIN:DAYLIGHT
TZOFFSETFROM:-0500
TZOFFSETTO:-0400
TZNAME:EDT
DTSTART:20280312T070000
END:DAYLIGHT
BEGIN:STANDARD
TZOFFSETFROM:-0400
TZOFFSETTO:-0500
TZNAME:EST
DTSTART:20281105T060000
END:STANDARD
BEGIN:DAYLIGHT
TZOFFSETFROM:-0500
TZOFFSETTO:-0400
TZNAME:EDT
DTSTART:20290311T070000
END:DAYLIGHT
BEGIN:STANDARD
TZOFFSETFROM:-0400
TZOFFSETTO:-0500
TZNAME:EST
DTSTART:20291104T060000
END:STANDARD
BEGIN:DAYLIGHT
TZOFFSETFROM:-0500
TZOFFSETTO:-0400
TZNAME:EDT
DTSTART:20300310T070000
END:DAYLIGHT
BEGIN:STANDARD
TZOFFSETFROM:-0400
TZOFFSETTO:-0500
TZNAME:EST
DTSTART:20301103T060000
END:STANDARD
BEGIN:DAYLIGHT
TZOFFSETFROM:-0500
TZOFFSETTO:-0400
TZNAME:EDT
DTSTART:20310309T070000
END:DAYLIGHT
BEGIN:STANDARD
TZOFFSETFROM:-0400
TZOFFSETTO:-0500
TZNAME:EST
DTSTART:20311102T060000
END:STANDARD
END:VTIMEZONE
BEGIN:VEVENT
DTSTART;TZID=America/New_York:20290906T140000
DTEND;TZID=America/New_York:20290906T160000
DTSTAMP:20260422T041242
CREATED:20250317T185003Z
LAST-MODIFIED:20250514T191456Z
UID:10000240-1883397600-1883404800@waterfordlibrary.net
SUMMARY:Fiber Fanatics Meet-Up
DESCRIPTION:  \nJoin our weekly group at the library where we celebrate all crafty hobbies including knitting\, crochet\, embroidery\, and more! All levels of experience welcome. No registration is required.
URL:https://waterfordlibrary.net/event/fiber-fanatics-meet-up/2029-09-06/
LOCATION:Waterford Public Library\, 117 3rd St\, Waterford\, NY\, 12188\, United States
CATEGORIES:Adult Programming,Crafts
ATTACH;FMTTYPE=image/jpeg:https://waterfordlibrary.net/wp-content/uploads/2025/03/pexels-surene-palvie-1075224-2767689-scaled-e1742653756408.jpg
END:VEVENT
BEGIN:VEVENT
DTSTART;TZID=America/New_York:20290913T140000
DTEND;TZID=America/New_York:20290913T160000
DTSTAMP:20260422T041242
CREATED:20250317T185003Z
LAST-MODIFIED:20250514T191456Z
UID:10000241-1884002400-1884009600@waterfordlibrary.net
SUMMARY:Fiber Fanatics Meet-Up
DESCRIPTION:  \nJoin our weekly group at the library where we celebrate all crafty hobbies including knitting\, crochet\, embroidery\, and more! All levels of experience welcome. No registration is required.
URL:https://waterfordlibrary.net/event/fiber-fanatics-meet-up/2029-09-13/
LOCATION:Waterford Public Library\, 117 3rd St\, Waterford\, NY\, 12188\, United States
CATEGORIES:Adult Programming,Crafts
ATTACH;FMTTYPE=image/jpeg:https://waterfordlibrary.net/wp-content/uploads/2025/03/pexels-surene-palvie-1075224-2767689-scaled-e1742653756408.jpg
END:VEVENT
BEGIN:VEVENT
DTSTART;TZID=America/New_York:20290920T140000
DTEND;TZID=America/New_York:20290920T160000
DTSTAMP:20260422T041242
CREATED:20250317T185003Z
LAST-MODIFIED:20250514T191456Z
UID:10000242-1884607200-1884614400@waterfordlibrary.net
SUMMARY:Fiber Fanatics Meet-Up
DESCRIPTION:  \nJoin our weekly group at the library where we celebrate all crafty hobbies including knitting\, crochet\, embroidery\, and more! All levels of experience welcome. No registration is required.
URL:https://waterfordlibrary.net/event/fiber-fanatics-meet-up/2029-09-20/
LOCATION:Waterford Public Library\, 117 3rd St\, Waterford\, NY\, 12188\, United States
CATEGORIES:Adult Programming,Crafts
ATTACH;FMTTYPE=image/jpeg:https://waterfordlibrary.net/wp-content/uploads/2025/03/pexels-surene-palvie-1075224-2767689-scaled-e1742653756408.jpg
END:VEVENT
BEGIN:VEVENT
DTSTART;TZID=America/New_York:20290927T140000
DTEND;TZID=America/New_York:20290927T160000
DTSTAMP:20260422T041242
CREATED:20250317T185003Z
LAST-MODIFIED:20250514T191456Z
UID:10000243-1885212000-1885219200@waterfordlibrary.net
SUMMARY:Fiber Fanatics Meet-Up
DESCRIPTION:  \nJoin our weekly group at the library where we celebrate all crafty hobbies including knitting\, crochet\, embroidery\, and more! All levels of experience welcome. No registration is required.
URL:https://waterfordlibrary.net/event/fiber-fanatics-meet-up/2029-09-27/
LOCATION:Waterford Public Library\, 117 3rd St\, Waterford\, NY\, 12188\, United States
CATEGORIES:Adult Programming,Crafts
ATTACH;FMTTYPE=image/jpeg:https://waterfordlibrary.net/wp-content/uploads/2025/03/pexels-surene-palvie-1075224-2767689-scaled-e1742653756408.jpg
END:VEVENT
BEGIN:VEVENT
DTSTART;TZID=America/New_York:20291004T140000
DTEND;TZID=America/New_York:20291004T160000
DTSTAMP:20260422T041242
CREATED:20250317T185003Z
LAST-MODIFIED:20250514T191456Z
UID:10000244-1885816800-1885824000@waterfordlibrary.net
SUMMARY:Fiber Fanatics Meet-Up
DESCRIPTION:  \nJoin our weekly group at the library where we celebrate all crafty hobbies including knitting\, crochet\, embroidery\, and more! All levels of experience welcome. No registration is required.
URL:https://waterfordlibrary.net/event/fiber-fanatics-meet-up/2029-10-04/
LOCATION:Waterford Public Library\, 117 3rd St\, Waterford\, NY\, 12188\, United States
CATEGORIES:Adult Programming,Crafts
ATTACH;FMTTYPE=image/jpeg:https://waterfordlibrary.net/wp-content/uploads/2025/03/pexels-surene-palvie-1075224-2767689-scaled-e1742653756408.jpg
END:VEVENT
BEGIN:VEVENT
DTSTART;TZID=America/New_York:20291011T140000
DTEND;TZID=America/New_York:20291011T160000
DTSTAMP:20260422T041242
CREATED:20250317T185003Z
LAST-MODIFIED:20250514T191456Z
UID:10000245-1886421600-1886428800@waterfordlibrary.net
SUMMARY:Fiber Fanatics Meet-Up
DESCRIPTION:  \nJoin our weekly group at the library where we celebrate all crafty hobbies including knitting\, crochet\, embroidery\, and more! All levels of experience welcome. No registration is required.
URL:https://waterfordlibrary.net/event/fiber-fanatics-meet-up/2029-10-11/
LOCATION:Waterford Public Library\, 117 3rd St\, Waterford\, NY\, 12188\, United States
CATEGORIES:Adult Programming,Crafts
ATTACH;FMTTYPE=image/jpeg:https://waterfordlibrary.net/wp-content/uploads/2025/03/pexels-surene-palvie-1075224-2767689-scaled-e1742653756408.jpg
END:VEVENT
BEGIN:VEVENT
DTSTART;TZID=America/New_York:20291018T140000
DTEND;TZID=America/New_York:20291018T160000
DTSTAMP:20260422T041242
CREATED:20250317T185003Z
LAST-MODIFIED:20250514T191456Z
UID:10000246-1887026400-1887033600@waterfordlibrary.net
SUMMARY:Fiber Fanatics Meet-Up
DESCRIPTION:  \nJoin our weekly group at the library where we celebrate all crafty hobbies including knitting\, crochet\, embroidery\, and more! All levels of experience welcome. No registration is required.
URL:https://waterfordlibrary.net/event/fiber-fanatics-meet-up/2029-10-18/
LOCATION:Waterford Public Library\, 117 3rd St\, Waterford\, NY\, 12188\, United States
CATEGORIES:Adult Programming,Crafts
ATTACH;FMTTYPE=image/jpeg:https://waterfordlibrary.net/wp-content/uploads/2025/03/pexels-surene-palvie-1075224-2767689-scaled-e1742653756408.jpg
END:VEVENT
BEGIN:VEVENT
DTSTART;TZID=America/New_York:20291025T140000
DTEND;TZID=America/New_York:20291025T160000
DTSTAMP:20260422T041242
CREATED:20250317T185003Z
LAST-MODIFIED:20250514T191456Z
UID:10000247-1887631200-1887638400@waterfordlibrary.net
SUMMARY:Fiber Fanatics Meet-Up
DESCRIPTION:  \nJoin our weekly group at the library where we celebrate all crafty hobbies including knitting\, crochet\, embroidery\, and more! All levels of experience welcome. No registration is required.
URL:https://waterfordlibrary.net/event/fiber-fanatics-meet-up/2029-10-25/
LOCATION:Waterford Public Library\, 117 3rd St\, Waterford\, NY\, 12188\, United States
CATEGORIES:Adult Programming,Crafts
ATTACH;FMTTYPE=image/jpeg:https://waterfordlibrary.net/wp-content/uploads/2025/03/pexels-surene-palvie-1075224-2767689-scaled-e1742653756408.jpg
END:VEVENT
BEGIN:VEVENT
DTSTART;TZID=America/New_York:20291101T140000
DTEND;TZID=America/New_York:20291101T160000
DTSTAMP:20260422T041242
CREATED:20250317T185003Z
LAST-MODIFIED:20250514T191456Z
UID:10000248-1888236000-1888243200@waterfordlibrary.net
SUMMARY:Fiber Fanatics Meet-Up
DESCRIPTION:  \nJoin our weekly group at the library where we celebrate all crafty hobbies including knitting\, crochet\, embroidery\, and more! All levels of experience welcome. No registration is required.
URL:https://waterfordlibrary.net/event/fiber-fanatics-meet-up/2029-11-01/
LOCATION:Waterford Public Library\, 117 3rd St\, Waterford\, NY\, 12188\, United States
CATEGORIES:Adult Programming,Crafts
ATTACH;FMTTYPE=image/jpeg:https://waterfordlibrary.net/wp-content/uploads/2025/03/pexels-surene-palvie-1075224-2767689-scaled-e1742653756408.jpg
END:VEVENT
BEGIN:VEVENT
DTSTART;TZID=America/New_York:20291108T140000
DTEND;TZID=America/New_York:20291108T160000
DTSTAMP:20260422T041242
CREATED:20250317T185003Z
LAST-MODIFIED:20250514T191456Z
UID:10000249-1888840800-1888848000@waterfordlibrary.net
SUMMARY:Fiber Fanatics Meet-Up
DESCRIPTION:  \nJoin our weekly group at the library where we celebrate all crafty hobbies including knitting\, crochet\, embroidery\, and more! All levels of experience welcome. No registration is required.
URL:https://waterfordlibrary.net/event/fiber-fanatics-meet-up/2029-11-08/
LOCATION:Waterford Public Library\, 117 3rd St\, Waterford\, NY\, 12188\, United States
CATEGORIES:Adult Programming,Crafts
ATTACH;FMTTYPE=image/jpeg:https://waterfordlibrary.net/wp-content/uploads/2025/03/pexels-surene-palvie-1075224-2767689-scaled-e1742653756408.jpg
END:VEVENT
BEGIN:VEVENT
DTSTART;TZID=America/New_York:20291115T140000
DTEND;TZID=America/New_York:20291115T160000
DTSTAMP:20260422T041242
CREATED:20250317T185003Z
LAST-MODIFIED:20250514T191456Z
UID:10000250-1889445600-1889452800@waterfordlibrary.net
SUMMARY:Fiber Fanatics Meet-Up
DESCRIPTION:  \nJoin our weekly group at the library where we celebrate all crafty hobbies including knitting\, crochet\, embroidery\, and more! All levels of experience welcome. No registration is required.
URL:https://waterfordlibrary.net/event/fiber-fanatics-meet-up/2029-11-15/
LOCATION:Waterford Public Library\, 117 3rd St\, Waterford\, NY\, 12188\, United States
CATEGORIES:Adult Programming,Crafts
ATTACH;FMTTYPE=image/jpeg:https://waterfordlibrary.net/wp-content/uploads/2025/03/pexels-surene-palvie-1075224-2767689-scaled-e1742653756408.jpg
END:VEVENT
BEGIN:VEVENT
DTSTART;TZID=America/New_York:20291122T140000
DTEND;TZID=America/New_York:20291122T160000
DTSTAMP:20260422T041242
CREATED:20250317T185003Z
LAST-MODIFIED:20250514T191456Z
UID:10000251-1890050400-1890057600@waterfordlibrary.net
SUMMARY:Fiber Fanatics Meet-Up
DESCRIPTION:  \nJoin our weekly group at the library where we celebrate all crafty hobbies including knitting\, crochet\, embroidery\, and more! All levels of experience welcome. No registration is required.
URL:https://waterfordlibrary.net/event/fiber-fanatics-meet-up/2029-11-22/
LOCATION:Waterford Public Library\, 117 3rd St\, Waterford\, NY\, 12188\, United States
CATEGORIES:Adult Programming,Crafts
ATTACH;FMTTYPE=image/jpeg:https://waterfordlibrary.net/wp-content/uploads/2025/03/pexels-surene-palvie-1075224-2767689-scaled-e1742653756408.jpg
END:VEVENT
BEGIN:VEVENT
DTSTART;TZID=America/New_York:20291129T140000
DTEND;TZID=America/New_York:20291129T160000
DTSTAMP:20260422T041242
CREATED:20250317T185003Z
LAST-MODIFIED:20250514T191456Z
UID:10000252-1890655200-1890662400@waterfordlibrary.net
SUMMARY:Fiber Fanatics Meet-Up
DESCRIPTION:  \nJoin our weekly group at the library where we celebrate all crafty hobbies including knitting\, crochet\, embroidery\, and more! All levels of experience welcome. No registration is required.
URL:https://waterfordlibrary.net/event/fiber-fanatics-meet-up/2029-11-29/
LOCATION:Waterford Public Library\, 117 3rd St\, Waterford\, NY\, 12188\, United States
CATEGORIES:Adult Programming,Crafts
ATTACH;FMTTYPE=image/jpeg:https://waterfordlibrary.net/wp-content/uploads/2025/03/pexels-surene-palvie-1075224-2767689-scaled-e1742653756408.jpg
END:VEVENT
BEGIN:VEVENT
DTSTART;TZID=America/New_York:20291206T140000
DTEND;TZID=America/New_York:20291206T160000
DTSTAMP:20260422T041242
CREATED:20250317T185003Z
LAST-MODIFIED:20250514T191456Z
UID:10000253-1891260000-1891267200@waterfordlibrary.net
SUMMARY:Fiber Fanatics Meet-Up
DESCRIPTION:  \nJoin our weekly group at the library where we celebrate all crafty hobbies including knitting\, crochet\, embroidery\, and more! All levels of experience welcome. No registration is required.
URL:https://waterfordlibrary.net/event/fiber-fanatics-meet-up/2029-12-06/
LOCATION:Waterford Public Library\, 117 3rd St\, Waterford\, NY\, 12188\, United States
CATEGORIES:Adult Programming,Crafts
ATTACH;FMTTYPE=image/jpeg:https://waterfordlibrary.net/wp-content/uploads/2025/03/pexels-surene-palvie-1075224-2767689-scaled-e1742653756408.jpg
END:VEVENT
BEGIN:VEVENT
DTSTART;TZID=America/New_York:20291213T140000
DTEND;TZID=America/New_York:20291213T160000
DTSTAMP:20260422T041242
CREATED:20250317T185003Z
LAST-MODIFIED:20250514T191456Z
UID:10000254-1891864800-1891872000@waterfordlibrary.net
SUMMARY:Fiber Fanatics Meet-Up
DESCRIPTION:  \nJoin our weekly group at the library where we celebrate all crafty hobbies including knitting\, crochet\, embroidery\, and more! All levels of experience welcome. No registration is required.
URL:https://waterfordlibrary.net/event/fiber-fanatics-meet-up/2029-12-13/
LOCATION:Waterford Public Library\, 117 3rd St\, Waterford\, NY\, 12188\, United States
CATEGORIES:Adult Programming,Crafts
ATTACH;FMTTYPE=image/jpeg:https://waterfordlibrary.net/wp-content/uploads/2025/03/pexels-surene-palvie-1075224-2767689-scaled-e1742653756408.jpg
END:VEVENT
BEGIN:VEVENT
DTSTART;TZID=America/New_York:20291220T140000
DTEND;TZID=America/New_York:20291220T160000
DTSTAMP:20260422T041242
CREATED:20250317T185003Z
LAST-MODIFIED:20250514T191456Z
UID:10000255-1892469600-1892476800@waterfordlibrary.net
SUMMARY:Fiber Fanatics Meet-Up
DESCRIPTION:  \nJoin our weekly group at the library where we celebrate all crafty hobbies including knitting\, crochet\, embroidery\, and more! All levels of experience welcome. No registration is required.
URL:https://waterfordlibrary.net/event/fiber-fanatics-meet-up/2029-12-20/
LOCATION:Waterford Public Library\, 117 3rd St\, Waterford\, NY\, 12188\, United States
CATEGORIES:Adult Programming,Crafts
ATTACH;FMTTYPE=image/jpeg:https://waterfordlibrary.net/wp-content/uploads/2025/03/pexels-surene-palvie-1075224-2767689-scaled-e1742653756408.jpg
END:VEVENT
BEGIN:VEVENT
DTSTART;TZID=America/New_York:20291227T140000
DTEND;TZID=America/New_York:20291227T160000
DTSTAMP:20260422T041242
CREATED:20250317T185003Z
LAST-MODIFIED:20250514T191456Z
UID:10000256-1893074400-1893081600@waterfordlibrary.net
SUMMARY:Fiber Fanatics Meet-Up
DESCRIPTION:  \nJoin our weekly group at the library where we celebrate all crafty hobbies including knitting\, crochet\, embroidery\, and more! All levels of experience welcome. No registration is required.
URL:https://waterfordlibrary.net/event/fiber-fanatics-meet-up/2029-12-27/
LOCATION:Waterford Public Library\, 117 3rd St\, Waterford\, NY\, 12188\, United States
CATEGORIES:Adult Programming,Crafts
ATTACH;FMTTYPE=image/jpeg:https://waterfordlibrary.net/wp-content/uploads/2025/03/pexels-surene-palvie-1075224-2767689-scaled-e1742653756408.jpg
END:VEVENT
BEGIN:VEVENT
DTSTART;TZID=America/New_York:20300103T140000
DTEND;TZID=America/New_York:20300103T160000
DTSTAMP:20260422T041242
CREATED:20250317T185003Z
LAST-MODIFIED:20250514T191456Z
UID:10000257-1893679200-1893686400@waterfordlibrary.net
SUMMARY:Fiber Fanatics Meet-Up
DESCRIPTION:  \nJoin our weekly group at the library where we celebrate all crafty hobbies including knitting\, crochet\, embroidery\, and more! All levels of experience welcome. No registration is required.
URL:https://waterfordlibrary.net/event/fiber-fanatics-meet-up/2030-01-03/
LOCATION:Waterford Public Library\, 117 3rd St\, Waterford\, NY\, 12188\, United States
CATEGORIES:Adult Programming,Crafts
ATTACH;FMTTYPE=image/jpeg:https://waterfordlibrary.net/wp-content/uploads/2025/03/pexels-surene-palvie-1075224-2767689-scaled-e1742653756408.jpg
END:VEVENT
BEGIN:VEVENT
DTSTART;TZID=America/New_York:20300110T140000
DTEND;TZID=America/New_York:20300110T160000
DTSTAMP:20260422T041242
CREATED:20250317T185003Z
LAST-MODIFIED:20250514T191456Z
UID:10000258-1894284000-1894291200@waterfordlibrary.net
SUMMARY:Fiber Fanatics Meet-Up
DESCRIPTION:  \nJoin our weekly group at the library where we celebrate all crafty hobbies including knitting\, crochet\, embroidery\, and more! All levels of experience welcome. No registration is required.
URL:https://waterfordlibrary.net/event/fiber-fanatics-meet-up/2030-01-10/
LOCATION:Waterford Public Library\, 117 3rd St\, Waterford\, NY\, 12188\, United States
CATEGORIES:Adult Programming,Crafts
ATTACH;FMTTYPE=image/jpeg:https://waterfordlibrary.net/wp-content/uploads/2025/03/pexels-surene-palvie-1075224-2767689-scaled-e1742653756408.jpg
END:VEVENT
BEGIN:VEVENT
DTSTART;TZID=America/New_York:20300117T140000
DTEND;TZID=America/New_York:20300117T160000
DTSTAMP:20260422T041242
CREATED:20250317T185003Z
LAST-MODIFIED:20250514T191456Z
UID:10000259-1894888800-1894896000@waterfordlibrary.net
SUMMARY:Fiber Fanatics Meet-Up
DESCRIPTION:  \nJoin our weekly group at the library where we celebrate all crafty hobbies including knitting\, crochet\, embroidery\, and more! All levels of experience welcome. No registration is required.
URL:https://waterfordlibrary.net/event/fiber-fanatics-meet-up/2030-01-17/
LOCATION:Waterford Public Library\, 117 3rd St\, Waterford\, NY\, 12188\, United States
CATEGORIES:Adult Programming,Crafts
ATTACH;FMTTYPE=image/jpeg:https://waterfordlibrary.net/wp-content/uploads/2025/03/pexels-surene-palvie-1075224-2767689-scaled-e1742653756408.jpg
END:VEVENT
BEGIN:VEVENT
DTSTART;TZID=America/New_York:20300124T140000
DTEND;TZID=America/New_York:20300124T160000
DTSTAMP:20260422T041242
CREATED:20250317T185003Z
LAST-MODIFIED:20250514T191456Z
UID:10000260-1895493600-1895500800@waterfordlibrary.net
SUMMARY:Fiber Fanatics Meet-Up
DESCRIPTION:  \nJoin our weekly group at the library where we celebrate all crafty hobbies including knitting\, crochet\, embroidery\, and more! All levels of experience welcome. No registration is required.
URL:https://waterfordlibrary.net/event/fiber-fanatics-meet-up/2030-01-24/
LOCATION:Waterford Public Library\, 117 3rd St\, Waterford\, NY\, 12188\, United States
CATEGORIES:Adult Programming,Crafts
ATTACH;FMTTYPE=image/jpeg:https://waterfordlibrary.net/wp-content/uploads/2025/03/pexels-surene-palvie-1075224-2767689-scaled-e1742653756408.jpg
END:VEVENT
BEGIN:VEVENT
DTSTART;TZID=America/New_York:20300131T140000
DTEND;TZID=America/New_York:20300131T160000
DTSTAMP:20260422T041242
CREATED:20250317T185003Z
LAST-MODIFIED:20250514T191456Z
UID:10000261-1896098400-1896105600@waterfordlibrary.net
SUMMARY:Fiber Fanatics Meet-Up
DESCRIPTION:  \nJoin our weekly group at the library where we celebrate all crafty hobbies including knitting\, crochet\, embroidery\, and more! All levels of experience welcome. No registration is required.
URL:https://waterfordlibrary.net/event/fiber-fanatics-meet-up/2030-01-31/
LOCATION:Waterford Public Library\, 117 3rd St\, Waterford\, NY\, 12188\, United States
CATEGORIES:Adult Programming,Crafts
ATTACH;FMTTYPE=image/jpeg:https://waterfordlibrary.net/wp-content/uploads/2025/03/pexels-surene-palvie-1075224-2767689-scaled-e1742653756408.jpg
END:VEVENT
BEGIN:VEVENT
DTSTART;TZID=America/New_York:20300207T140000
DTEND;TZID=America/New_York:20300207T160000
DTSTAMP:20260422T041242
CREATED:20250317T185003Z
LAST-MODIFIED:20250514T191456Z
UID:10000262-1896703200-1896710400@waterfordlibrary.net
SUMMARY:Fiber Fanatics Meet-Up
DESCRIPTION:  \nJoin our weekly group at the library where we celebrate all crafty hobbies including knitting\, crochet\, embroidery\, and more! All levels of experience welcome. No registration is required.
URL:https://waterfordlibrary.net/event/fiber-fanatics-meet-up/2030-02-07/
LOCATION:Waterford Public Library\, 117 3rd St\, Waterford\, NY\, 12188\, United States
CATEGORIES:Adult Programming,Crafts
ATTACH;FMTTYPE=image/jpeg:https://waterfordlibrary.net/wp-content/uploads/2025/03/pexels-surene-palvie-1075224-2767689-scaled-e1742653756408.jpg
END:VEVENT
BEGIN:VEVENT
DTSTART;TZID=America/New_York:20300214T140000
DTEND;TZID=America/New_York:20300214T160000
DTSTAMP:20260422T041242
CREATED:20250317T185003Z
LAST-MODIFIED:20250514T191456Z
UID:10000263-1897308000-1897315200@waterfordlibrary.net
SUMMARY:Fiber Fanatics Meet-Up
DESCRIPTION:  \nJoin our weekly group at the library where we celebrate all crafty hobbies including knitting\, crochet\, embroidery\, and more! All levels of experience welcome. No registration is required.
URL:https://waterfordlibrary.net/event/fiber-fanatics-meet-up/2030-02-14/
LOCATION:Waterford Public Library\, 117 3rd St\, Waterford\, NY\, 12188\, United States
CATEGORIES:Adult Programming,Crafts
ATTACH;FMTTYPE=image/jpeg:https://waterfordlibrary.net/wp-content/uploads/2025/03/pexels-surene-palvie-1075224-2767689-scaled-e1742653756408.jpg
END:VEVENT
BEGIN:VEVENT
DTSTART;TZID=America/New_York:20300221T140000
DTEND;TZID=America/New_York:20300221T160000
DTSTAMP:20260422T041242
CREATED:20250317T185003Z
LAST-MODIFIED:20250514T191456Z
UID:10000264-1897912800-1897920000@waterfordlibrary.net
SUMMARY:Fiber Fanatics Meet-Up
DESCRIPTION:  \nJoin our weekly group at the library where we celebrate all crafty hobbies including knitting\, crochet\, embroidery\, and more! All levels of experience welcome. No registration is required.
URL:https://waterfordlibrary.net/event/fiber-fanatics-meet-up/2030-02-21/
LOCATION:Waterford Public Library\, 117 3rd St\, Waterford\, NY\, 12188\, United States
CATEGORIES:Adult Programming,Crafts
ATTACH;FMTTYPE=image/jpeg:https://waterfordlibrary.net/wp-content/uploads/2025/03/pexels-surene-palvie-1075224-2767689-scaled-e1742653756408.jpg
END:VEVENT
BEGIN:VEVENT
DTSTART;TZID=America/New_York:20300228T140000
DTEND;TZID=America/New_York:20300228T160000
DTSTAMP:20260422T041242
CREATED:20250317T185003Z
LAST-MODIFIED:20250514T191456Z
UID:10000265-1898517600-1898524800@waterfordlibrary.net
SUMMARY:Fiber Fanatics Meet-Up
DESCRIPTION:  \nJoin our weekly group at the library where we celebrate all crafty hobbies including knitting\, crochet\, embroidery\, and more! All levels of experience welcome. No registration is required.
URL:https://waterfordlibrary.net/event/fiber-fanatics-meet-up/2030-02-28/
LOCATION:Waterford Public Library\, 117 3rd St\, Waterford\, NY\, 12188\, United States
CATEGORIES:Adult Programming,Crafts
ATTACH;FMTTYPE=image/jpeg:https://waterfordlibrary.net/wp-content/uploads/2025/03/pexels-surene-palvie-1075224-2767689-scaled-e1742653756408.jpg
END:VEVENT
BEGIN:VEVENT
DTSTART;TZID=America/New_York:20300307T140000
DTEND;TZID=America/New_York:20300307T160000
DTSTAMP:20260422T041242
CREATED:20250317T185003Z
LAST-MODIFIED:20250514T191456Z
UID:10000266-1899122400-1899129600@waterfordlibrary.net
SUMMARY:Fiber Fanatics Meet-Up
DESCRIPTION:  \nJoin our weekly group at the library where we celebrate all crafty hobbies including knitting\, crochet\, embroidery\, and more! All levels of experience welcome. No registration is required.
URL:https://waterfordlibrary.net/event/fiber-fanatics-meet-up/2030-03-07/
LOCATION:Waterford Public Library\, 117 3rd St\, Waterford\, NY\, 12188\, United States
CATEGORIES:Adult Programming,Crafts
ATTACH;FMTTYPE=image/jpeg:https://waterfordlibrary.net/wp-content/uploads/2025/03/pexels-surene-palvie-1075224-2767689-scaled-e1742653756408.jpg
END:VEVENT
BEGIN:VEVENT
DTSTART;TZID=America/New_York:20300314T140000
DTEND;TZID=America/New_York:20300314T160000
DTSTAMP:20260422T041242
CREATED:20250317T185003Z
LAST-MODIFIED:20250514T191456Z
UID:10000267-1899727200-1899734400@waterfordlibrary.net
SUMMARY:Fiber Fanatics Meet-Up
DESCRIPTION:  \nJoin our weekly group at the library where we celebrate all crafty hobbies including knitting\, crochet\, embroidery\, and more! All levels of experience welcome. No registration is required.
URL:https://waterfordlibrary.net/event/fiber-fanatics-meet-up/2030-03-14/
LOCATION:Waterford Public Library\, 117 3rd St\, Waterford\, NY\, 12188\, United States
CATEGORIES:Adult Programming,Crafts
ATTACH;FMTTYPE=image/jpeg:https://waterfordlibrary.net/wp-content/uploads/2025/03/pexels-surene-palvie-1075224-2767689-scaled-e1742653756408.jpg
END:VEVENT
BEGIN:VEVENT
DTSTART;TZID=America/New_York:20300321T140000
DTEND;TZID=America/New_York:20300321T160000
DTSTAMP:20260422T041242
CREATED:20250317T185003Z
LAST-MODIFIED:20250514T191456Z
UID:10001307-1900332000-1900339200@waterfordlibrary.net
SUMMARY:Fiber Fanatics Meet-Up
DESCRIPTION:  \nJoin our weekly group at the library where we celebrate all crafty hobbies including knitting\, crochet\, embroidery\, and more! All levels of experience welcome. No registration is required.
URL:https://waterfordlibrary.net/event/fiber-fanatics-meet-up/2030-03-21/
LOCATION:Waterford Public Library\, 117 3rd St\, Waterford\, NY\, 12188\, United States
CATEGORIES:Adult Programming,Crafts
ATTACH;FMTTYPE=image/jpeg:https://waterfordlibrary.net/wp-content/uploads/2025/03/pexels-surene-palvie-1075224-2767689-scaled-e1742653756408.jpg
END:VEVENT
BEGIN:VEVENT
DTSTART;TZID=America/New_York:20300328T140000
DTEND;TZID=America/New_York:20300328T160000
DTSTAMP:20260422T041242
CREATED:20250317T185003Z
LAST-MODIFIED:20250514T191456Z
UID:10001325-1900936800-1900944000@waterfordlibrary.net
SUMMARY:Fiber Fanatics Meet-Up
DESCRIPTION:  \nJoin our weekly group at the library where we celebrate all crafty hobbies including knitting\, crochet\, embroidery\, and more! All levels of experience welcome. No registration is required.
URL:https://waterfordlibrary.net/event/fiber-fanatics-meet-up/2030-03-28/
LOCATION:Waterford Public Library\, 117 3rd St\, Waterford\, NY\, 12188\, United States
CATEGORIES:Adult Programming,Crafts
ATTACH;FMTTYPE=image/jpeg:https://waterfordlibrary.net/wp-content/uploads/2025/03/pexels-surene-palvie-1075224-2767689-scaled-e1742653756408.jpg
END:VEVENT
END:VCALENDAR