BEGIN:VCALENDAR
VERSION:2.0
PRODID:-//Waterford Public Library - ECPv6.15.20//NONSGML v1.0//EN
CALSCALE:GREGORIAN
METHOD:PUBLISH
X-ORIGINAL-URL:https://waterfordlibrary.net
X-WR-CALDESC:Events for Waterford Public Library
REFRESH-INTERVAL;VALUE=DURATION:PT1H
X-Robots-Tag:noindex
X-PUBLISHED-TTL:PT1H
BEGIN:VTIMEZONE
TZID:America/New_York
BEGIN:DAYLIGHT
TZOFFSETFROM:-0500
TZOFFSETTO:-0400
TZNAME:EDT
DTSTART:20270314T070000
END:DAYLIGHT
BEGIN:STANDARD
TZOFFSETFROM:-0400
TZOFFSETTO:-0500
TZNAME:EST
DTSTART:20271107T060000
END:STANDARD
BEGIN:DAYLIGHT
TZOFFSETFROM:-0500
TZOFFSETTO:-0400
TZNAME:EDT
DTSTART:20280312T070000
END:DAYLIGHT
BEGIN:STANDARD
TZOFFSETFROM:-0400
TZOFFSETTO:-0500
TZNAME:EST
DTSTART:20281105T060000
END:STANDARD
BEGIN:DAYLIGHT
TZOFFSETFROM:-0500
TZOFFSETTO:-0400
TZNAME:EDT
DTSTART:20290311T070000
END:DAYLIGHT
BEGIN:STANDARD
TZOFFSETFROM:-0400
TZOFFSETTO:-0500
TZNAME:EST
DTSTART:20291104T060000
END:STANDARD
BEGIN:DAYLIGHT
TZOFFSETFROM:-0500
TZOFFSETTO:-0400
TZNAME:EDT
DTSTART:20300310T070000
END:DAYLIGHT
BEGIN:STANDARD
TZOFFSETFROM:-0400
TZOFFSETTO:-0500
TZNAME:EST
DTSTART:20301103T060000
END:STANDARD
END:VTIMEZONE
BEGIN:VEVENT
DTSTART;TZID=America/New_York:20280720T140000
DTEND;TZID=America/New_York:20280720T160000
DTSTAMP:20260424T001610
CREATED:20250317T185003Z
LAST-MODIFIED:20250514T191456Z
UID:10000181-1847714400-1847721600@waterfordlibrary.net
SUMMARY:Fiber Fanatics Meet-Up
DESCRIPTION:  \nJoin our weekly group at the library where we celebrate all crafty hobbies including knitting\, crochet\, embroidery\, and more! All levels of experience welcome. No registration is required.
URL:https://waterfordlibrary.net/event/fiber-fanatics-meet-up/2028-07-20/
LOCATION:Waterford Public Library\, 117 3rd St\, Waterford\, NY\, 12188\, United States
CATEGORIES:Adult Programming,Crafts
ATTACH;FMTTYPE=image/jpeg:https://waterfordlibrary.net/wp-content/uploads/2025/03/pexels-surene-palvie-1075224-2767689-scaled-e1742653756408.jpg
END:VEVENT
BEGIN:VEVENT
DTSTART;TZID=America/New_York:20280727T140000
DTEND;TZID=America/New_York:20280727T160000
DTSTAMP:20260424T001610
CREATED:20250317T185003Z
LAST-MODIFIED:20250514T191456Z
UID:10000182-1848319200-1848326400@waterfordlibrary.net
SUMMARY:Fiber Fanatics Meet-Up
DESCRIPTION:  \nJoin our weekly group at the library where we celebrate all crafty hobbies including knitting\, crochet\, embroidery\, and more! All levels of experience welcome. No registration is required.
URL:https://waterfordlibrary.net/event/fiber-fanatics-meet-up/2028-07-27/
LOCATION:Waterford Public Library\, 117 3rd St\, Waterford\, NY\, 12188\, United States
CATEGORIES:Adult Programming,Crafts
ATTACH;FMTTYPE=image/jpeg:https://waterfordlibrary.net/wp-content/uploads/2025/03/pexels-surene-palvie-1075224-2767689-scaled-e1742653756408.jpg
END:VEVENT
BEGIN:VEVENT
DTSTART;TZID=America/New_York:20280803T140000
DTEND;TZID=America/New_York:20280803T160000
DTSTAMP:20260424T001610
CREATED:20250317T185003Z
LAST-MODIFIED:20250514T191456Z
UID:10000183-1848924000-1848931200@waterfordlibrary.net
SUMMARY:Fiber Fanatics Meet-Up
DESCRIPTION:  \nJoin our weekly group at the library where we celebrate all crafty hobbies including knitting\, crochet\, embroidery\, and more! All levels of experience welcome. No registration is required.
URL:https://waterfordlibrary.net/event/fiber-fanatics-meet-up/2028-08-03/
LOCATION:Waterford Public Library\, 117 3rd St\, Waterford\, NY\, 12188\, United States
CATEGORIES:Adult Programming,Crafts
ATTACH;FMTTYPE=image/jpeg:https://waterfordlibrary.net/wp-content/uploads/2025/03/pexels-surene-palvie-1075224-2767689-scaled-e1742653756408.jpg
END:VEVENT
BEGIN:VEVENT
DTSTART;TZID=America/New_York:20280810T140000
DTEND;TZID=America/New_York:20280810T160000
DTSTAMP:20260424T001610
CREATED:20250317T185003Z
LAST-MODIFIED:20250514T191456Z
UID:10000184-1849528800-1849536000@waterfordlibrary.net
SUMMARY:Fiber Fanatics Meet-Up
DESCRIPTION:  \nJoin our weekly group at the library where we celebrate all crafty hobbies including knitting\, crochet\, embroidery\, and more! All levels of experience welcome. No registration is required.
URL:https://waterfordlibrary.net/event/fiber-fanatics-meet-up/2028-08-10/
LOCATION:Waterford Public Library\, 117 3rd St\, Waterford\, NY\, 12188\, United States
CATEGORIES:Adult Programming,Crafts
ATTACH;FMTTYPE=image/jpeg:https://waterfordlibrary.net/wp-content/uploads/2025/03/pexels-surene-palvie-1075224-2767689-scaled-e1742653756408.jpg
END:VEVENT
BEGIN:VEVENT
DTSTART;TZID=America/New_York:20280817T140000
DTEND;TZID=America/New_York:20280817T160000
DTSTAMP:20260424T001610
CREATED:20250317T185003Z
LAST-MODIFIED:20250514T191456Z
UID:10000185-1850133600-1850140800@waterfordlibrary.net
SUMMARY:Fiber Fanatics Meet-Up
DESCRIPTION:  \nJoin our weekly group at the library where we celebrate all crafty hobbies including knitting\, crochet\, embroidery\, and more! All levels of experience welcome. No registration is required.
URL:https://waterfordlibrary.net/event/fiber-fanatics-meet-up/2028-08-17/
LOCATION:Waterford Public Library\, 117 3rd St\, Waterford\, NY\, 12188\, United States
CATEGORIES:Adult Programming,Crafts
ATTACH;FMTTYPE=image/jpeg:https://waterfordlibrary.net/wp-content/uploads/2025/03/pexels-surene-palvie-1075224-2767689-scaled-e1742653756408.jpg
END:VEVENT
BEGIN:VEVENT
DTSTART;TZID=America/New_York:20280824T140000
DTEND;TZID=America/New_York:20280824T160000
DTSTAMP:20260424T001610
CREATED:20250317T185003Z
LAST-MODIFIED:20250514T191456Z
UID:10000186-1850738400-1850745600@waterfordlibrary.net
SUMMARY:Fiber Fanatics Meet-Up
DESCRIPTION:  \nJoin our weekly group at the library where we celebrate all crafty hobbies including knitting\, crochet\, embroidery\, and more! All levels of experience welcome. No registration is required.
URL:https://waterfordlibrary.net/event/fiber-fanatics-meet-up/2028-08-24/
LOCATION:Waterford Public Library\, 117 3rd St\, Waterford\, NY\, 12188\, United States
CATEGORIES:Adult Programming,Crafts
ATTACH;FMTTYPE=image/jpeg:https://waterfordlibrary.net/wp-content/uploads/2025/03/pexels-surene-palvie-1075224-2767689-scaled-e1742653756408.jpg
END:VEVENT
BEGIN:VEVENT
DTSTART;TZID=America/New_York:20280831T140000
DTEND;TZID=America/New_York:20280831T160000
DTSTAMP:20260424T001610
CREATED:20250317T185003Z
LAST-MODIFIED:20250514T191456Z
UID:10000187-1851343200-1851350400@waterfordlibrary.net
SUMMARY:Fiber Fanatics Meet-Up
DESCRIPTION:  \nJoin our weekly group at the library where we celebrate all crafty hobbies including knitting\, crochet\, embroidery\, and more! All levels of experience welcome. No registration is required.
URL:https://waterfordlibrary.net/event/fiber-fanatics-meet-up/2028-08-31/
LOCATION:Waterford Public Library\, 117 3rd St\, Waterford\, NY\, 12188\, United States
CATEGORIES:Adult Programming,Crafts
ATTACH;FMTTYPE=image/jpeg:https://waterfordlibrary.net/wp-content/uploads/2025/03/pexels-surene-palvie-1075224-2767689-scaled-e1742653756408.jpg
END:VEVENT
BEGIN:VEVENT
DTSTART;TZID=America/New_York:20280907T140000
DTEND;TZID=America/New_York:20280907T160000
DTSTAMP:20260424T001610
CREATED:20250317T185003Z
LAST-MODIFIED:20250514T191456Z
UID:10000188-1851948000-1851955200@waterfordlibrary.net
SUMMARY:Fiber Fanatics Meet-Up
DESCRIPTION:  \nJoin our weekly group at the library where we celebrate all crafty hobbies including knitting\, crochet\, embroidery\, and more! All levels of experience welcome. No registration is required.
URL:https://waterfordlibrary.net/event/fiber-fanatics-meet-up/2028-09-07/
LOCATION:Waterford Public Library\, 117 3rd St\, Waterford\, NY\, 12188\, United States
CATEGORIES:Adult Programming,Crafts
ATTACH;FMTTYPE=image/jpeg:https://waterfordlibrary.net/wp-content/uploads/2025/03/pexels-surene-palvie-1075224-2767689-scaled-e1742653756408.jpg
END:VEVENT
BEGIN:VEVENT
DTSTART;TZID=America/New_York:20280914T140000
DTEND;TZID=America/New_York:20280914T160000
DTSTAMP:20260424T001610
CREATED:20250317T185003Z
LAST-MODIFIED:20250514T191456Z
UID:10000189-1852552800-1852560000@waterfordlibrary.net
SUMMARY:Fiber Fanatics Meet-Up
DESCRIPTION:  \nJoin our weekly group at the library where we celebrate all crafty hobbies including knitting\, crochet\, embroidery\, and more! All levels of experience welcome. No registration is required.
URL:https://waterfordlibrary.net/event/fiber-fanatics-meet-up/2028-09-14/
LOCATION:Waterford Public Library\, 117 3rd St\, Waterford\, NY\, 12188\, United States
CATEGORIES:Adult Programming,Crafts
ATTACH;FMTTYPE=image/jpeg:https://waterfordlibrary.net/wp-content/uploads/2025/03/pexels-surene-palvie-1075224-2767689-scaled-e1742653756408.jpg
END:VEVENT
BEGIN:VEVENT
DTSTART;TZID=America/New_York:20280921T140000
DTEND;TZID=America/New_York:20280921T160000
DTSTAMP:20260424T001610
CREATED:20250317T185003Z
LAST-MODIFIED:20250514T191456Z
UID:10000190-1853157600-1853164800@waterfordlibrary.net
SUMMARY:Fiber Fanatics Meet-Up
DESCRIPTION:  \nJoin our weekly group at the library where we celebrate all crafty hobbies including knitting\, crochet\, embroidery\, and more! All levels of experience welcome. No registration is required.
URL:https://waterfordlibrary.net/event/fiber-fanatics-meet-up/2028-09-21/
LOCATION:Waterford Public Library\, 117 3rd St\, Waterford\, NY\, 12188\, United States
CATEGORIES:Adult Programming,Crafts
ATTACH;FMTTYPE=image/jpeg:https://waterfordlibrary.net/wp-content/uploads/2025/03/pexels-surene-palvie-1075224-2767689-scaled-e1742653756408.jpg
END:VEVENT
BEGIN:VEVENT
DTSTART;TZID=America/New_York:20280928T140000
DTEND;TZID=America/New_York:20280928T160000
DTSTAMP:20260424T001610
CREATED:20250317T185003Z
LAST-MODIFIED:20250514T191456Z
UID:10000191-1853762400-1853769600@waterfordlibrary.net
SUMMARY:Fiber Fanatics Meet-Up
DESCRIPTION:  \nJoin our weekly group at the library where we celebrate all crafty hobbies including knitting\, crochet\, embroidery\, and more! All levels of experience welcome. No registration is required.
URL:https://waterfordlibrary.net/event/fiber-fanatics-meet-up/2028-09-28/
LOCATION:Waterford Public Library\, 117 3rd St\, Waterford\, NY\, 12188\, United States
CATEGORIES:Adult Programming,Crafts
ATTACH;FMTTYPE=image/jpeg:https://waterfordlibrary.net/wp-content/uploads/2025/03/pexels-surene-palvie-1075224-2767689-scaled-e1742653756408.jpg
END:VEVENT
BEGIN:VEVENT
DTSTART;TZID=America/New_York:20281005T140000
DTEND;TZID=America/New_York:20281005T160000
DTSTAMP:20260424T001610
CREATED:20250317T185003Z
LAST-MODIFIED:20250514T191456Z
UID:10000192-1854367200-1854374400@waterfordlibrary.net
SUMMARY:Fiber Fanatics Meet-Up
DESCRIPTION:  \nJoin our weekly group at the library where we celebrate all crafty hobbies including knitting\, crochet\, embroidery\, and more! All levels of experience welcome. No registration is required.
URL:https://waterfordlibrary.net/event/fiber-fanatics-meet-up/2028-10-05/
LOCATION:Waterford Public Library\, 117 3rd St\, Waterford\, NY\, 12188\, United States
CATEGORIES:Adult Programming,Crafts
ATTACH;FMTTYPE=image/jpeg:https://waterfordlibrary.net/wp-content/uploads/2025/03/pexels-surene-palvie-1075224-2767689-scaled-e1742653756408.jpg
END:VEVENT
BEGIN:VEVENT
DTSTART;TZID=America/New_York:20281012T140000
DTEND;TZID=America/New_York:20281012T160000
DTSTAMP:20260424T001610
CREATED:20250317T185003Z
LAST-MODIFIED:20250514T191456Z
UID:10000193-1854972000-1854979200@waterfordlibrary.net
SUMMARY:Fiber Fanatics Meet-Up
DESCRIPTION:  \nJoin our weekly group at the library where we celebrate all crafty hobbies including knitting\, crochet\, embroidery\, and more! All levels of experience welcome. No registration is required.
URL:https://waterfordlibrary.net/event/fiber-fanatics-meet-up/2028-10-12/
LOCATION:Waterford Public Library\, 117 3rd St\, Waterford\, NY\, 12188\, United States
CATEGORIES:Adult Programming,Crafts
ATTACH;FMTTYPE=image/jpeg:https://waterfordlibrary.net/wp-content/uploads/2025/03/pexels-surene-palvie-1075224-2767689-scaled-e1742653756408.jpg
END:VEVENT
BEGIN:VEVENT
DTSTART;TZID=America/New_York:20281019T140000
DTEND;TZID=America/New_York:20281019T160000
DTSTAMP:20260424T001610
CREATED:20250317T185003Z
LAST-MODIFIED:20250514T191456Z
UID:10000194-1855576800-1855584000@waterfordlibrary.net
SUMMARY:Fiber Fanatics Meet-Up
DESCRIPTION:  \nJoin our weekly group at the library where we celebrate all crafty hobbies including knitting\, crochet\, embroidery\, and more! All levels of experience welcome. No registration is required.
URL:https://waterfordlibrary.net/event/fiber-fanatics-meet-up/2028-10-19/
LOCATION:Waterford Public Library\, 117 3rd St\, Waterford\, NY\, 12188\, United States
CATEGORIES:Adult Programming,Crafts
ATTACH;FMTTYPE=image/jpeg:https://waterfordlibrary.net/wp-content/uploads/2025/03/pexels-surene-palvie-1075224-2767689-scaled-e1742653756408.jpg
END:VEVENT
BEGIN:VEVENT
DTSTART;TZID=America/New_York:20281026T140000
DTEND;TZID=America/New_York:20281026T160000
DTSTAMP:20260424T001610
CREATED:20250317T185003Z
LAST-MODIFIED:20250514T191456Z
UID:10000195-1856181600-1856188800@waterfordlibrary.net
SUMMARY:Fiber Fanatics Meet-Up
DESCRIPTION:  \nJoin our weekly group at the library where we celebrate all crafty hobbies including knitting\, crochet\, embroidery\, and more! All levels of experience welcome. No registration is required.
URL:https://waterfordlibrary.net/event/fiber-fanatics-meet-up/2028-10-26/
LOCATION:Waterford Public Library\, 117 3rd St\, Waterford\, NY\, 12188\, United States
CATEGORIES:Adult Programming,Crafts
ATTACH;FMTTYPE=image/jpeg:https://waterfordlibrary.net/wp-content/uploads/2025/03/pexels-surene-palvie-1075224-2767689-scaled-e1742653756408.jpg
END:VEVENT
BEGIN:VEVENT
DTSTART;TZID=America/New_York:20281102T140000
DTEND;TZID=America/New_York:20281102T160000
DTSTAMP:20260424T001610
CREATED:20250317T185003Z
LAST-MODIFIED:20250514T191456Z
UID:10000196-1856786400-1856793600@waterfordlibrary.net
SUMMARY:Fiber Fanatics Meet-Up
DESCRIPTION:  \nJoin our weekly group at the library where we celebrate all crafty hobbies including knitting\, crochet\, embroidery\, and more! All levels of experience welcome. No registration is required.
URL:https://waterfordlibrary.net/event/fiber-fanatics-meet-up/2028-11-02/
LOCATION:Waterford Public Library\, 117 3rd St\, Waterford\, NY\, 12188\, United States
CATEGORIES:Adult Programming,Crafts
ATTACH;FMTTYPE=image/jpeg:https://waterfordlibrary.net/wp-content/uploads/2025/03/pexels-surene-palvie-1075224-2767689-scaled-e1742653756408.jpg
END:VEVENT
BEGIN:VEVENT
DTSTART;TZID=America/New_York:20281109T140000
DTEND;TZID=America/New_York:20281109T160000
DTSTAMP:20260424T001610
CREATED:20250317T185003Z
LAST-MODIFIED:20250514T191456Z
UID:10000197-1857391200-1857398400@waterfordlibrary.net
SUMMARY:Fiber Fanatics Meet-Up
DESCRIPTION:  \nJoin our weekly group at the library where we celebrate all crafty hobbies including knitting\, crochet\, embroidery\, and more! All levels of experience welcome. No registration is required.
URL:https://waterfordlibrary.net/event/fiber-fanatics-meet-up/2028-11-09/
LOCATION:Waterford Public Library\, 117 3rd St\, Waterford\, NY\, 12188\, United States
CATEGORIES:Adult Programming,Crafts
ATTACH;FMTTYPE=image/jpeg:https://waterfordlibrary.net/wp-content/uploads/2025/03/pexels-surene-palvie-1075224-2767689-scaled-e1742653756408.jpg
END:VEVENT
BEGIN:VEVENT
DTSTART;TZID=America/New_York:20281116T140000
DTEND;TZID=America/New_York:20281116T160000
DTSTAMP:20260424T001610
CREATED:20250317T185003Z
LAST-MODIFIED:20250514T191456Z
UID:10000198-1857996000-1858003200@waterfordlibrary.net
SUMMARY:Fiber Fanatics Meet-Up
DESCRIPTION:  \nJoin our weekly group at the library where we celebrate all crafty hobbies including knitting\, crochet\, embroidery\, and more! All levels of experience welcome. No registration is required.
URL:https://waterfordlibrary.net/event/fiber-fanatics-meet-up/2028-11-16/
LOCATION:Waterford Public Library\, 117 3rd St\, Waterford\, NY\, 12188\, United States
CATEGORIES:Adult Programming,Crafts
ATTACH;FMTTYPE=image/jpeg:https://waterfordlibrary.net/wp-content/uploads/2025/03/pexels-surene-palvie-1075224-2767689-scaled-e1742653756408.jpg
END:VEVENT
BEGIN:VEVENT
DTSTART;TZID=America/New_York:20281123T140000
DTEND;TZID=America/New_York:20281123T160000
DTSTAMP:20260424T001610
CREATED:20250317T185003Z
LAST-MODIFIED:20250514T191456Z
UID:10000199-1858600800-1858608000@waterfordlibrary.net
SUMMARY:Fiber Fanatics Meet-Up
DESCRIPTION:  \nJoin our weekly group at the library where we celebrate all crafty hobbies including knitting\, crochet\, embroidery\, and more! All levels of experience welcome. No registration is required.
URL:https://waterfordlibrary.net/event/fiber-fanatics-meet-up/2028-11-23/
LOCATION:Waterford Public Library\, 117 3rd St\, Waterford\, NY\, 12188\, United States
CATEGORIES:Adult Programming,Crafts
ATTACH;FMTTYPE=image/jpeg:https://waterfordlibrary.net/wp-content/uploads/2025/03/pexels-surene-palvie-1075224-2767689-scaled-e1742653756408.jpg
END:VEVENT
BEGIN:VEVENT
DTSTART;TZID=America/New_York:20281130T140000
DTEND;TZID=America/New_York:20281130T160000
DTSTAMP:20260424T001610
CREATED:20250317T185003Z
LAST-MODIFIED:20250514T191456Z
UID:10000200-1859205600-1859212800@waterfordlibrary.net
SUMMARY:Fiber Fanatics Meet-Up
DESCRIPTION:  \nJoin our weekly group at the library where we celebrate all crafty hobbies including knitting\, crochet\, embroidery\, and more! All levels of experience welcome. No registration is required.
URL:https://waterfordlibrary.net/event/fiber-fanatics-meet-up/2028-11-30/
LOCATION:Waterford Public Library\, 117 3rd St\, Waterford\, NY\, 12188\, United States
CATEGORIES:Adult Programming,Crafts
ATTACH;FMTTYPE=image/jpeg:https://waterfordlibrary.net/wp-content/uploads/2025/03/pexels-surene-palvie-1075224-2767689-scaled-e1742653756408.jpg
END:VEVENT
BEGIN:VEVENT
DTSTART;TZID=America/New_York:20281207T140000
DTEND;TZID=America/New_York:20281207T160000
DTSTAMP:20260424T001610
CREATED:20250317T185003Z
LAST-MODIFIED:20250514T191456Z
UID:10000201-1859810400-1859817600@waterfordlibrary.net
SUMMARY:Fiber Fanatics Meet-Up
DESCRIPTION:  \nJoin our weekly group at the library where we celebrate all crafty hobbies including knitting\, crochet\, embroidery\, and more! All levels of experience welcome. No registration is required.
URL:https://waterfordlibrary.net/event/fiber-fanatics-meet-up/2028-12-07/
LOCATION:Waterford Public Library\, 117 3rd St\, Waterford\, NY\, 12188\, United States
CATEGORIES:Adult Programming,Crafts
ATTACH;FMTTYPE=image/jpeg:https://waterfordlibrary.net/wp-content/uploads/2025/03/pexels-surene-palvie-1075224-2767689-scaled-e1742653756408.jpg
END:VEVENT
BEGIN:VEVENT
DTSTART;TZID=America/New_York:20281214T140000
DTEND;TZID=America/New_York:20281214T160000
DTSTAMP:20260424T001610
CREATED:20250317T185003Z
LAST-MODIFIED:20250514T191456Z
UID:10000202-1860415200-1860422400@waterfordlibrary.net
SUMMARY:Fiber Fanatics Meet-Up
DESCRIPTION:  \nJoin our weekly group at the library where we celebrate all crafty hobbies including knitting\, crochet\, embroidery\, and more! All levels of experience welcome. No registration is required.
URL:https://waterfordlibrary.net/event/fiber-fanatics-meet-up/2028-12-14/
LOCATION:Waterford Public Library\, 117 3rd St\, Waterford\, NY\, 12188\, United States
CATEGORIES:Adult Programming,Crafts
ATTACH;FMTTYPE=image/jpeg:https://waterfordlibrary.net/wp-content/uploads/2025/03/pexels-surene-palvie-1075224-2767689-scaled-e1742653756408.jpg
END:VEVENT
BEGIN:VEVENT
DTSTART;TZID=America/New_York:20281221T140000
DTEND;TZID=America/New_York:20281221T160000
DTSTAMP:20260424T001610
CREATED:20250317T185003Z
LAST-MODIFIED:20250514T191456Z
UID:10000203-1861020000-1861027200@waterfordlibrary.net
SUMMARY:Fiber Fanatics Meet-Up
DESCRIPTION:  \nJoin our weekly group at the library where we celebrate all crafty hobbies including knitting\, crochet\, embroidery\, and more! All levels of experience welcome. No registration is required.
URL:https://waterfordlibrary.net/event/fiber-fanatics-meet-up/2028-12-21/
LOCATION:Waterford Public Library\, 117 3rd St\, Waterford\, NY\, 12188\, United States
CATEGORIES:Adult Programming,Crafts
ATTACH;FMTTYPE=image/jpeg:https://waterfordlibrary.net/wp-content/uploads/2025/03/pexels-surene-palvie-1075224-2767689-scaled-e1742653756408.jpg
END:VEVENT
BEGIN:VEVENT
DTSTART;TZID=America/New_York:20281228T140000
DTEND;TZID=America/New_York:20281228T160000
DTSTAMP:20260424T001610
CREATED:20250317T185003Z
LAST-MODIFIED:20250514T191456Z
UID:10000204-1861624800-1861632000@waterfordlibrary.net
SUMMARY:Fiber Fanatics Meet-Up
DESCRIPTION:  \nJoin our weekly group at the library where we celebrate all crafty hobbies including knitting\, crochet\, embroidery\, and more! All levels of experience welcome. No registration is required.
URL:https://waterfordlibrary.net/event/fiber-fanatics-meet-up/2028-12-28/
LOCATION:Waterford Public Library\, 117 3rd St\, Waterford\, NY\, 12188\, United States
CATEGORIES:Adult Programming,Crafts
ATTACH;FMTTYPE=image/jpeg:https://waterfordlibrary.net/wp-content/uploads/2025/03/pexels-surene-palvie-1075224-2767689-scaled-e1742653756408.jpg
END:VEVENT
BEGIN:VEVENT
DTSTART;TZID=America/New_York:20290104T140000
DTEND;TZID=America/New_York:20290104T160000
DTSTAMP:20260424T001610
CREATED:20250317T185003Z
LAST-MODIFIED:20250514T191456Z
UID:10000205-1862229600-1862236800@waterfordlibrary.net
SUMMARY:Fiber Fanatics Meet-Up
DESCRIPTION:  \nJoin our weekly group at the library where we celebrate all crafty hobbies including knitting\, crochet\, embroidery\, and more! All levels of experience welcome. No registration is required.
URL:https://waterfordlibrary.net/event/fiber-fanatics-meet-up/2029-01-04/
LOCATION:Waterford Public Library\, 117 3rd St\, Waterford\, NY\, 12188\, United States
CATEGORIES:Adult Programming,Crafts
ATTACH;FMTTYPE=image/jpeg:https://waterfordlibrary.net/wp-content/uploads/2025/03/pexels-surene-palvie-1075224-2767689-scaled-e1742653756408.jpg
END:VEVENT
BEGIN:VEVENT
DTSTART;TZID=America/New_York:20290111T140000
DTEND;TZID=America/New_York:20290111T160000
DTSTAMP:20260424T001610
CREATED:20250317T185003Z
LAST-MODIFIED:20250514T191456Z
UID:10000206-1862834400-1862841600@waterfordlibrary.net
SUMMARY:Fiber Fanatics Meet-Up
DESCRIPTION:  \nJoin our weekly group at the library where we celebrate all crafty hobbies including knitting\, crochet\, embroidery\, and more! All levels of experience welcome. No registration is required.
URL:https://waterfordlibrary.net/event/fiber-fanatics-meet-up/2029-01-11/
LOCATION:Waterford Public Library\, 117 3rd St\, Waterford\, NY\, 12188\, United States
CATEGORIES:Adult Programming,Crafts
ATTACH;FMTTYPE=image/jpeg:https://waterfordlibrary.net/wp-content/uploads/2025/03/pexels-surene-palvie-1075224-2767689-scaled-e1742653756408.jpg
END:VEVENT
BEGIN:VEVENT
DTSTART;TZID=America/New_York:20290118T140000
DTEND;TZID=America/New_York:20290118T160000
DTSTAMP:20260424T001610
CREATED:20250317T185003Z
LAST-MODIFIED:20250514T191456Z
UID:10000207-1863439200-1863446400@waterfordlibrary.net
SUMMARY:Fiber Fanatics Meet-Up
DESCRIPTION:  \nJoin our weekly group at the library where we celebrate all crafty hobbies including knitting\, crochet\, embroidery\, and more! All levels of experience welcome. No registration is required.
URL:https://waterfordlibrary.net/event/fiber-fanatics-meet-up/2029-01-18/
LOCATION:Waterford Public Library\, 117 3rd St\, Waterford\, NY\, 12188\, United States
CATEGORIES:Adult Programming,Crafts
ATTACH;FMTTYPE=image/jpeg:https://waterfordlibrary.net/wp-content/uploads/2025/03/pexels-surene-palvie-1075224-2767689-scaled-e1742653756408.jpg
END:VEVENT
BEGIN:VEVENT
DTSTART;TZID=America/New_York:20290125T140000
DTEND;TZID=America/New_York:20290125T160000
DTSTAMP:20260424T001610
CREATED:20250317T185003Z
LAST-MODIFIED:20250514T191456Z
UID:10000208-1864044000-1864051200@waterfordlibrary.net
SUMMARY:Fiber Fanatics Meet-Up
DESCRIPTION:  \nJoin our weekly group at the library where we celebrate all crafty hobbies including knitting\, crochet\, embroidery\, and more! All levels of experience welcome. No registration is required.
URL:https://waterfordlibrary.net/event/fiber-fanatics-meet-up/2029-01-25/
LOCATION:Waterford Public Library\, 117 3rd St\, Waterford\, NY\, 12188\, United States
CATEGORIES:Adult Programming,Crafts
ATTACH;FMTTYPE=image/jpeg:https://waterfordlibrary.net/wp-content/uploads/2025/03/pexels-surene-palvie-1075224-2767689-scaled-e1742653756408.jpg
END:VEVENT
BEGIN:VEVENT
DTSTART;TZID=America/New_York:20290201T140000
DTEND;TZID=America/New_York:20290201T160000
DTSTAMP:20260424T001610
CREATED:20250317T185003Z
LAST-MODIFIED:20250514T191456Z
UID:10000209-1864648800-1864656000@waterfordlibrary.net
SUMMARY:Fiber Fanatics Meet-Up
DESCRIPTION:  \nJoin our weekly group at the library where we celebrate all crafty hobbies including knitting\, crochet\, embroidery\, and more! All levels of experience welcome. No registration is required.
URL:https://waterfordlibrary.net/event/fiber-fanatics-meet-up/2029-02-01/
LOCATION:Waterford Public Library\, 117 3rd St\, Waterford\, NY\, 12188\, United States
CATEGORIES:Adult Programming,Crafts
ATTACH;FMTTYPE=image/jpeg:https://waterfordlibrary.net/wp-content/uploads/2025/03/pexels-surene-palvie-1075224-2767689-scaled-e1742653756408.jpg
END:VEVENT
BEGIN:VEVENT
DTSTART;TZID=America/New_York:20290208T140000
DTEND;TZID=America/New_York:20290208T160000
DTSTAMP:20260424T001610
CREATED:20250317T185003Z
LAST-MODIFIED:20250514T191456Z
UID:10000210-1865253600-1865260800@waterfordlibrary.net
SUMMARY:Fiber Fanatics Meet-Up
DESCRIPTION:  \nJoin our weekly group at the library where we celebrate all crafty hobbies including knitting\, crochet\, embroidery\, and more! All levels of experience welcome. No registration is required.
URL:https://waterfordlibrary.net/event/fiber-fanatics-meet-up/2029-02-08/
LOCATION:Waterford Public Library\, 117 3rd St\, Waterford\, NY\, 12188\, United States
CATEGORIES:Adult Programming,Crafts
ATTACH;FMTTYPE=image/jpeg:https://waterfordlibrary.net/wp-content/uploads/2025/03/pexels-surene-palvie-1075224-2767689-scaled-e1742653756408.jpg
END:VEVENT
END:VCALENDAR