BEGIN:VCALENDAR
VERSION:2.0
PRODID:-//Waterford Public Library - ECPv6.15.20//NONSGML v1.0//EN
CALSCALE:GREGORIAN
METHOD:PUBLISH
X-ORIGINAL-URL:https://waterfordlibrary.net
X-WR-CALDESC:Events for Waterford Public Library
REFRESH-INTERVAL;VALUE=DURATION:PT1H
X-Robots-Tag:noindex
X-PUBLISHED-TTL:PT1H
BEGIN:VTIMEZONE
TZID:America/New_York
BEGIN:DAYLIGHT
TZOFFSETFROM:-0500
TZOFFSETTO:-0400
TZNAME:EDT
DTSTART:20250309T070000
END:DAYLIGHT
BEGIN:STANDARD
TZOFFSETFROM:-0400
TZOFFSETTO:-0500
TZNAME:EST
DTSTART:20251102T060000
END:STANDARD
BEGIN:DAYLIGHT
TZOFFSETFROM:-0500
TZOFFSETTO:-0400
TZNAME:EDT
DTSTART:20260308T070000
END:DAYLIGHT
BEGIN:STANDARD
TZOFFSETFROM:-0400
TZOFFSETTO:-0500
TZNAME:EST
DTSTART:20261101T060000
END:STANDARD
BEGIN:DAYLIGHT
TZOFFSETFROM:-0500
TZOFFSETTO:-0400
TZNAME:EDT
DTSTART:20270314T070000
END:DAYLIGHT
BEGIN:STANDARD
TZOFFSETFROM:-0400
TZOFFSETTO:-0500
TZNAME:EST
DTSTART:20271107T060000
END:STANDARD
END:VTIMEZONE
BEGIN:VEVENT
DTSTART;TZID=America/New_York:20260520T170000
DTEND;TZID=America/New_York:20260520T183000
DTSTAMP:20260419T125522
CREATED:20260330T183713Z
LAST-MODIFIED:20260330T183713Z
UID:10001892-1779296400-1779301800@waterfordlibrary.net
SUMMARY:Customer Savings Event with National Grid
DESCRIPTION:Advocates will be on-site to help you explore options and determine your eligibility for assistance including the following: \n\nHome Energy Assistance Program (HEAP) which also provides cooling assistance\nEnergy Affordability Program (EAP)\nPayment Plans\nBudget Plan/Balanced Billing\nSpecial Protections\n\nNo registration is necessary\, just drop-in between 5-6:30 pm. Bring a current energy bill and any award letters for other assistance you currently receive.
URL:https://waterfordlibrary.net/event/customer-savings-event-with-national-grid-3/
LOCATION:Waterford Public Library\, 117 3rd St\, Waterford\, NY\, 12188\, United States
CATEGORIES:Adult Programming,Informational
ATTACH;FMTTYPE=image/png:https://waterfordlibrary.net/wp-content/uploads/2025/10/Untitled-design-2-e1768229920613.png
ORGANIZER;CN="Waterford Public Library":MAILTO:watpublibrary@gmail.com
END:VEVENT
BEGIN:VEVENT
DTSTART;TZID=America/New_York:20260522T100000
DTEND;TZID=America/New_York:20260522T120000
DTSTAMP:20260419T125522
CREATED:20260306T172627Z
LAST-MODIFIED:20260306T172627Z
UID:10001798-1779444000-1779451200@waterfordlibrary.net
SUMMARY:MVP Enrollment Assistance
DESCRIPTION:Need Health Insurance? \nMeet with an MVP representative at the library on the 4th Friday of the month from 10 am – 12 pm. They can help with new enrollment\, renewals\, and coverage questions for any plans through the New York State of Health marketplace. Free and confidential service. \nYou may need the following on-hand to enroll in a plan: \n\nDate of birth\nSocial Security Number or Document Numbers to verify immigration status\nProof of income for the last 30 days\n\nThis is a drop-in program; no appointment is necessary.
URL:https://waterfordlibrary.net/event/mvp-enrollment-assistance/2026-05-22/
LOCATION:Waterford Public Library\, 117 3rd St\, Waterford\, NY\, 12188\, United States
CATEGORIES:Adult Programming,Informational
ATTACH;FMTTYPE=image/png:https://waterfordlibrary.net/wp-content/uploads/2026/03/n1042306-e1772817565196.png
ORGANIZER;CN="Waterford Public Library":MAILTO:watpublibrary@gmail.com
END:VEVENT
END:VCALENDAR