BEGIN:VCALENDAR
VERSION:2.0
PRODID:-//Waterford Public Library - ECPv6.15.20//NONSGML v1.0//EN
CALSCALE:GREGORIAN
METHOD:PUBLISH
X-ORIGINAL-URL:https://waterfordlibrary.net
X-WR-CALDESC:Events for Waterford Public Library
REFRESH-INTERVAL;VALUE=DURATION:PT1H
X-Robots-Tag:noindex
X-PUBLISHED-TTL:PT1H
BEGIN:VTIMEZONE
TZID:America/New_York
BEGIN:DAYLIGHT
TZOFFSETFROM:-0500
TZOFFSETTO:-0400
TZNAME:EDT
DTSTART:20250309T070000
END:DAYLIGHT
BEGIN:STANDARD
TZOFFSETFROM:-0400
TZOFFSETTO:-0500
TZNAME:EST
DTSTART:20251102T060000
END:STANDARD
BEGIN:DAYLIGHT
TZOFFSETFROM:-0500
TZOFFSETTO:-0400
TZNAME:EDT
DTSTART:20260308T070000
END:DAYLIGHT
BEGIN:STANDARD
TZOFFSETFROM:-0400
TZOFFSETTO:-0500
TZNAME:EST
DTSTART:20261101T060000
END:STANDARD
BEGIN:DAYLIGHT
TZOFFSETFROM:-0500
TZOFFSETTO:-0400
TZNAME:EDT
DTSTART:20270314T070000
END:DAYLIGHT
BEGIN:STANDARD
TZOFFSETFROM:-0400
TZOFFSETTO:-0500
TZNAME:EST
DTSTART:20271107T060000
END:STANDARD
END:VTIMEZONE
BEGIN:VEVENT
DTSTART;TZID=America/New_York:20260516T103000
DTEND;TZID=America/New_York:20260516T113000
DTSTAMP:20260420T125954
CREATED:20260311T205458Z
LAST-MODIFIED:20260312T142455Z
UID:10001857-1778927400-1778931000@waterfordlibrary.net
SUMMARY:Currents of Knowledge Book Club
DESCRIPTION:Join us for our new book club! Meets the third Saturday of the month from 10:30 – 11:30 a.m. Whether you’re a devoted nonfiction reader or simply curious to explore new ideas\, you’re warmly invited to join the conversation. No registration is required—just bring your curiosity and a love of learning. With a primary focus on memoirs\, science\, and nature writing\, each selection invites thoughtful discussion and fresh perspectives. From personal journeys and groundbreaking discoveries to explorations of the natural world\, the group gathers to learn together and share insights. The club may also branch into other nonfiction topics based on members’ interests and enthusiasm. Coffee and pastries will be provided. Settle in with a warm drink and a sweet treat as we share ideas\, ask questions\, and connect through great nonfiction. \nThis month we will be discussing The Soul of an Octopus by Sy Montgomery. Books are available for checkout at the circulation desk during the month of May.
URL:https://waterfordlibrary.net/event/currents-of-knowledge-book-club/
LOCATION:Waterford Public Library\, 117 3rd St\, Waterford\, NY\, 12188\, United States
CATEGORIES:Adult Programming,Book Club
ATTACH;FMTTYPE=image/jpeg:https://waterfordlibrary.net/wp-content/uploads/2026/03/the-soul-of-an-octopus-9781451697711_lg.jpg
END:VEVENT
BEGIN:VEVENT
DTSTART;TZID=America/New_York:20260526T180000
DTEND;TZID=America/New_York:20260526T190000
DTSTAMP:20260420T125954
CREATED:20260319T161525Z
LAST-MODIFIED:20260319T161525Z
UID:10001879-1779818400-1779822000@waterfordlibrary.net
SUMMARY:Waterford Readers Book Club
DESCRIPTION:Join the library for a monthly book club! We will primarily be reading mysteries and thrillers but other genres may be included from time to time. Our pick for May 26th is The Book Club for Troublesome Women by Marie Bostwick. Copies are available at the check-out desk for pickup during the month of May. No registration is required. Please note that this book club takes place after the library is closed. We recommend arriving at least 15 minutes prior to the start of book club if you wish to check out items or peruse our collection. \nBy early 1960s standards\, Margaret Ryan\, Viv Buschetti\, and Bitsy Cobb\, suburban housewives in a brand-new “planned community” in Northern Virginia\, appear to have it all. The fact that “all” doesn’t feel like enough leaves them feeling confused and guilty\, certain the fault must lie with them. Things begin to change when they form a book club with Charlotte Gustafson–the eccentric and artsy “new neighbor” from Manhattan–and read Betty Friedan’s just-released book\, The Feminine Mystique. But is it really the book that alters the lives of these four very different women? Or is it the bond of sisterhood that helps them find courage to confront the past\, navigate turmoil in a rapidly changing world\, and see themselves in a new and limitless light?
URL:https://waterfordlibrary.net/event/waterford-readers-book-club-15/
LOCATION:Waterford Public Library\, 117 3rd St\, Waterford\, NY\, 12188\, United States
CATEGORIES:Adult Programming,Book Club
ATTACH;FMTTYPE=image/jpeg:https://waterfordlibrary.net/wp-content/uploads/2026/03/91CQC2cQbUL._SL1500_-e1773936897183.jpg
ORGANIZER;CN="Waterford Public Library":MAILTO:watpublibrary@gmail.com
END:VEVENT
END:VCALENDAR